BEGIN:VCALENDAR
VERSION:2.0
PRODID:-//Bryn Athyn Church - ECPv6.15.12.2//NONSGML v1.0//EN
CALSCALE:GREGORIAN
METHOD:PUBLISH
X-WR-CALNAME:Bryn Athyn Church
X-ORIGINAL-URL:https://brynathynchurch.org
X-WR-CALDESC:Events for Bryn Athyn Church
REFRESH-INTERVAL;VALUE=DURATION:PT1H
X-Robots-Tag:noindex
X-PUBLISHED-TTL:PT1H
BEGIN:VTIMEZONE
TZID:America/New_York
BEGIN:DAYLIGHT
TZOFFSETFROM:-0500
TZOFFSETTO:-0400
TZNAME:EDT
DTSTART:20250309T070000
END:DAYLIGHT
BEGIN:STANDARD
TZOFFSETFROM:-0400
TZOFFSETTO:-0500
TZNAME:EST
DTSTART:20251102T060000
END:STANDARD
BEGIN:DAYLIGHT
TZOFFSETFROM:-0500
TZOFFSETTO:-0400
TZNAME:EDT
DTSTART:20260308T070000
END:DAYLIGHT
BEGIN:STANDARD
TZOFFSETFROM:-0400
TZOFFSETTO:-0500
TZNAME:EST
DTSTART:20261101T060000
END:STANDARD
BEGIN:DAYLIGHT
TZOFFSETFROM:-0500
TZOFFSETTO:-0400
TZNAME:EDT
DTSTART:20270314T070000
END:DAYLIGHT
BEGIN:STANDARD
TZOFFSETFROM:-0400
TZOFFSETTO:-0500
TZNAME:EST
DTSTART:20271107T060000
END:STANDARD
END:VTIMEZONE
BEGIN:VEVENT
DTSTART;TZID=America/New_York:20260425T083000
DTEND;TZID=America/New_York:20260425T110000
DTSTAMP:20260425T143053
CREATED:20260326T154253Z
LAST-MODIFIED:20260326T154253Z
UID:10010145-1777105800-1777114800@brynathynchurch.org
SUMMARY:LNC Breakfast Walk
DESCRIPTION:Walkers gather in the upper Cathedral parking lot by 8:45 am. Please join us for our much anticipated Breakfast Walk! The spirit of the Walk is to celebrate community between the church entities in Bryn Athyn – literally walking together from the Bryn Athyn Cathedral to the Lord’s New Church Chapel and then gathering in fellowship over breakfast in the LNC Church Hall. All are welcome whether walking or driving over and there is no charge for breakfast. We look forward to seeing you there!
URL:https://brynathynchurch.org/calendar-event/lnc-breakfast-walk/
LOCATION:Lord’s New Church 1725 Huntingdon Road Huntingdon Valley\, PA 19006
CATEGORIES:Other
END:VEVENT
END:VCALENDAR