BEGIN:VCALENDAR
VERSION:2.0
PRODID:-//Bryn Athyn Church - ECPv6.15.12.2//NONSGML v1.0//EN
CALSCALE:GREGORIAN
METHOD:PUBLISH
X-ORIGINAL-URL:https://brynathynchurch.org
X-WR-CALDESC:Events for Bryn Athyn Church
REFRESH-INTERVAL;VALUE=DURATION:PT1H
X-Robots-Tag:noindex
X-PUBLISHED-TTL:PT1H
BEGIN:VTIMEZONE
TZID:America/New_York
BEGIN:DAYLIGHT
TZOFFSETFROM:-0500
TZOFFSETTO:-0400
TZNAME:EDT
DTSTART:20280312T070000
END:DAYLIGHT
BEGIN:STANDARD
TZOFFSETFROM:-0400
TZOFFSETTO:-0500
TZNAME:EST
DTSTART:20281105T060000
END:STANDARD
BEGIN:DAYLIGHT
TZOFFSETFROM:-0500
TZOFFSETTO:-0400
TZNAME:EDT
DTSTART:20290311T070000
END:DAYLIGHT
BEGIN:STANDARD
TZOFFSETFROM:-0400
TZOFFSETTO:-0500
TZNAME:EST
DTSTART:20291104T060000
END:STANDARD
BEGIN:DAYLIGHT
TZOFFSETFROM:-0500
TZOFFSETTO:-0400
TZNAME:EDT
DTSTART:20300310T070000
END:DAYLIGHT
BEGIN:STANDARD
TZOFFSETFROM:-0400
TZOFFSETTO:-0500
TZNAME:EST
DTSTART:20301103T060000
END:STANDARD
BEGIN:DAYLIGHT
TZOFFSETFROM:-0500
TZOFFSETTO:-0400
TZNAME:EDT
DTSTART:20310309T070000
END:DAYLIGHT
BEGIN:STANDARD
TZOFFSETFROM:-0400
TZOFFSETTO:-0500
TZNAME:EST
DTSTART:20311102T060000
END:STANDARD
END:VTIMEZONE
BEGIN:VEVENT
DTSTART;TZID=America/New_York:20290902T110000
DTEND;TZID=America/New_York:20290902T120000
DTSTAMP:20260425T230042
CREATED:20251204T135428Z
LAST-MODIFIED:20260420T170813Z
UID:10008631-1883041200-1883044800@brynathynchurch.org
SUMMARY:Adult Service
DESCRIPTION:We would love to have you join us in-person or online for our next Adult Service. The service is about 45 minutes long and the sermon is aimed at high school age and up. \n\nPlease Note: The player below will always show information about the next Adult Service. To find other recordings\, visit the Adult Service Archive or the All Recent Services archive.
URL:https://brynathynchurch.org/calendar-event/adult-service-19/2029-09-02/
LOCATION:Bryn Athyn Cathedral\, 900 Cathedral Rd\, Bryn Athyn\, PA 19009\, United States
CATEGORIES:Bryn Athyn Church
END:VEVENT
BEGIN:VEVENT
DTSTART;TZID=America/New_York:20290909T110000
DTEND;TZID=America/New_York:20290909T120000
DTSTAMP:20260425T230042
CREATED:20251204T135428Z
LAST-MODIFIED:20260420T170813Z
UID:10008632-1883646000-1883649600@brynathynchurch.org
SUMMARY:Adult Service
DESCRIPTION:We would love to have you join us in-person or online for our next Adult Service. The service is about 45 minutes long and the sermon is aimed at high school age and up. \n\nPlease Note: The player below will always show information about the next Adult Service. To find other recordings\, visit the Adult Service Archive or the All Recent Services archive.
URL:https://brynathynchurch.org/calendar-event/adult-service-19/2029-09-09/
LOCATION:Bryn Athyn Cathedral\, 900 Cathedral Rd\, Bryn Athyn\, PA 19009\, United States
CATEGORIES:Bryn Athyn Church
END:VEVENT
BEGIN:VEVENT
DTSTART;TZID=America/New_York:20290916T110000
DTEND;TZID=America/New_York:20290916T120000
DTSTAMP:20260425T230042
CREATED:20251204T135428Z
LAST-MODIFIED:20260420T170813Z
UID:10008633-1884250800-1884254400@brynathynchurch.org
SUMMARY:Adult Service
DESCRIPTION:We would love to have you join us in-person or online for our next Adult Service. The service is about 45 minutes long and the sermon is aimed at high school age and up. \n\nPlease Note: The player below will always show information about the next Adult Service. To find other recordings\, visit the Adult Service Archive or the All Recent Services archive.
URL:https://brynathynchurch.org/calendar-event/adult-service-19/2029-09-16/
LOCATION:Bryn Athyn Cathedral\, 900 Cathedral Rd\, Bryn Athyn\, PA 19009\, United States
CATEGORIES:Bryn Athyn Church
END:VEVENT
BEGIN:VEVENT
DTSTART;TZID=America/New_York:20290923T110000
DTEND;TZID=America/New_York:20290923T120000
DTSTAMP:20260425T230042
CREATED:20251204T135428Z
LAST-MODIFIED:20260420T170813Z
UID:10008634-1884855600-1884859200@brynathynchurch.org
SUMMARY:Adult Service
DESCRIPTION:We would love to have you join us in-person or online for our next Adult Service. The service is about 45 minutes long and the sermon is aimed at high school age and up. \n\nPlease Note: The player below will always show information about the next Adult Service. To find other recordings\, visit the Adult Service Archive or the All Recent Services archive.
URL:https://brynathynchurch.org/calendar-event/adult-service-19/2029-09-23/
LOCATION:Bryn Athyn Cathedral\, 900 Cathedral Rd\, Bryn Athyn\, PA 19009\, United States
CATEGORIES:Bryn Athyn Church
END:VEVENT
BEGIN:VEVENT
DTSTART;TZID=America/New_York:20290930T110000
DTEND;TZID=America/New_York:20290930T120000
DTSTAMP:20260425T230042
CREATED:20251204T135428Z
LAST-MODIFIED:20260420T170813Z
UID:10008635-1885460400-1885464000@brynathynchurch.org
SUMMARY:Adult Service
DESCRIPTION:We would love to have you join us in-person or online for our next Adult Service. The service is about 45 minutes long and the sermon is aimed at high school age and up. \n\nPlease Note: The player below will always show information about the next Adult Service. To find other recordings\, visit the Adult Service Archive or the All Recent Services archive.
URL:https://brynathynchurch.org/calendar-event/adult-service-19/2029-09-30/
LOCATION:Bryn Athyn Cathedral\, 900 Cathedral Rd\, Bryn Athyn\, PA 19009\, United States
CATEGORIES:Bryn Athyn Church
END:VEVENT
BEGIN:VEVENT
DTSTART;TZID=America/New_York:20291007T110000
DTEND;TZID=America/New_York:20291007T120000
DTSTAMP:20260425T230042
CREATED:20251204T135428Z
LAST-MODIFIED:20260420T170813Z
UID:10008636-1886065200-1886068800@brynathynchurch.org
SUMMARY:Adult Service
DESCRIPTION:We would love to have you join us in-person or online for our next Adult Service. The service is about 45 minutes long and the sermon is aimed at high school age and up. \n\nPlease Note: The player below will always show information about the next Adult Service. To find other recordings\, visit the Adult Service Archive or the All Recent Services archive.
URL:https://brynathynchurch.org/calendar-event/adult-service-19/2029-10-07/
LOCATION:Bryn Athyn Cathedral\, 900 Cathedral Rd\, Bryn Athyn\, PA 19009\, United States
CATEGORIES:Bryn Athyn Church
END:VEVENT
BEGIN:VEVENT
DTSTART;TZID=America/New_York:20291014T110000
DTEND;TZID=America/New_York:20291014T120000
DTSTAMP:20260425T230042
CREATED:20251204T135428Z
LAST-MODIFIED:20260420T170813Z
UID:10008637-1886670000-1886673600@brynathynchurch.org
SUMMARY:Adult Service
DESCRIPTION:We would love to have you join us in-person or online for our next Adult Service. The service is about 45 minutes long and the sermon is aimed at high school age and up. \n\nPlease Note: The player below will always show information about the next Adult Service. To find other recordings\, visit the Adult Service Archive or the All Recent Services archive.
URL:https://brynathynchurch.org/calendar-event/adult-service-19/2029-10-14/
LOCATION:Bryn Athyn Cathedral\, 900 Cathedral Rd\, Bryn Athyn\, PA 19009\, United States
CATEGORIES:Bryn Athyn Church
END:VEVENT
BEGIN:VEVENT
DTSTART;TZID=America/New_York:20291021T110000
DTEND;TZID=America/New_York:20291021T120000
DTSTAMP:20260425T230042
CREATED:20251204T135428Z
LAST-MODIFIED:20260420T170813Z
UID:10008638-1887274800-1887278400@brynathynchurch.org
SUMMARY:Adult Service
DESCRIPTION:We would love to have you join us in-person or online for our next Adult Service. The service is about 45 minutes long and the sermon is aimed at high school age and up. \n\nPlease Note: The player below will always show information about the next Adult Service. To find other recordings\, visit the Adult Service Archive or the All Recent Services archive.
URL:https://brynathynchurch.org/calendar-event/adult-service-19/2029-10-21/
LOCATION:Bryn Athyn Cathedral\, 900 Cathedral Rd\, Bryn Athyn\, PA 19009\, United States
CATEGORIES:Bryn Athyn Church
END:VEVENT
BEGIN:VEVENT
DTSTART;TZID=America/New_York:20291028T110000
DTEND;TZID=America/New_York:20291028T120000
DTSTAMP:20260425T230042
CREATED:20251204T135428Z
LAST-MODIFIED:20260420T170813Z
UID:10008639-1887879600-1887883200@brynathynchurch.org
SUMMARY:Adult Service
DESCRIPTION:We would love to have you join us in-person or online for our next Adult Service. The service is about 45 minutes long and the sermon is aimed at high school age and up. \n\nPlease Note: The player below will always show information about the next Adult Service. To find other recordings\, visit the Adult Service Archive or the All Recent Services archive.
URL:https://brynathynchurch.org/calendar-event/adult-service-19/2029-10-28/
LOCATION:Bryn Athyn Cathedral\, 900 Cathedral Rd\, Bryn Athyn\, PA 19009\, United States
CATEGORIES:Bryn Athyn Church
END:VEVENT
BEGIN:VEVENT
DTSTART;TZID=America/New_York:20291104T110000
DTEND;TZID=America/New_York:20291104T120000
DTSTAMP:20260425T230042
CREATED:20251204T135428Z
LAST-MODIFIED:20260420T170813Z
UID:10008640-1888484400-1888488000@brynathynchurch.org
SUMMARY:Adult Service
DESCRIPTION:We would love to have you join us in-person or online for our next Adult Service. The service is about 45 minutes long and the sermon is aimed at high school age and up. \n\nPlease Note: The player below will always show information about the next Adult Service. To find other recordings\, visit the Adult Service Archive or the All Recent Services archive.
URL:https://brynathynchurch.org/calendar-event/adult-service-19/2029-11-04/
LOCATION:Bryn Athyn Cathedral\, 900 Cathedral Rd\, Bryn Athyn\, PA 19009\, United States
CATEGORIES:Bryn Athyn Church
END:VEVENT
BEGIN:VEVENT
DTSTART;TZID=America/New_York:20291111T110000
DTEND;TZID=America/New_York:20291111T120000
DTSTAMP:20260425T230042
CREATED:20251204T135428Z
LAST-MODIFIED:20260420T170813Z
UID:10008641-1889089200-1889092800@brynathynchurch.org
SUMMARY:Adult Service
DESCRIPTION:We would love to have you join us in-person or online for our next Adult Service. The service is about 45 minutes long and the sermon is aimed at high school age and up. \n\nPlease Note: The player below will always show information about the next Adult Service. To find other recordings\, visit the Adult Service Archive or the All Recent Services archive.
URL:https://brynathynchurch.org/calendar-event/adult-service-19/2029-11-11/
LOCATION:Bryn Athyn Cathedral\, 900 Cathedral Rd\, Bryn Athyn\, PA 19009\, United States
CATEGORIES:Bryn Athyn Church
END:VEVENT
BEGIN:VEVENT
DTSTART;TZID=America/New_York:20291118T110000
DTEND;TZID=America/New_York:20291118T120000
DTSTAMP:20260425T230042
CREATED:20251204T135428Z
LAST-MODIFIED:20260420T170813Z
UID:10008642-1889694000-1889697600@brynathynchurch.org
SUMMARY:Adult Service
DESCRIPTION:We would love to have you join us in-person or online for our next Adult Service. The service is about 45 minutes long and the sermon is aimed at high school age and up. \n\nPlease Note: The player below will always show information about the next Adult Service. To find other recordings\, visit the Adult Service Archive or the All Recent Services archive.
URL:https://brynathynchurch.org/calendar-event/adult-service-19/2029-11-18/
LOCATION:Bryn Athyn Cathedral\, 900 Cathedral Rd\, Bryn Athyn\, PA 19009\, United States
CATEGORIES:Bryn Athyn Church
END:VEVENT
BEGIN:VEVENT
DTSTART;TZID=America/New_York:20291125T110000
DTEND;TZID=America/New_York:20291125T120000
DTSTAMP:20260425T230042
CREATED:20251204T135428Z
LAST-MODIFIED:20260420T170813Z
UID:10008643-1890298800-1890302400@brynathynchurch.org
SUMMARY:Adult Service
DESCRIPTION:We would love to have you join us in-person or online for our next Adult Service. The service is about 45 minutes long and the sermon is aimed at high school age and up. \n\nPlease Note: The player below will always show information about the next Adult Service. To find other recordings\, visit the Adult Service Archive or the All Recent Services archive.
URL:https://brynathynchurch.org/calendar-event/adult-service-19/2029-11-25/
LOCATION:Bryn Athyn Cathedral\, 900 Cathedral Rd\, Bryn Athyn\, PA 19009\, United States
CATEGORIES:Bryn Athyn Church
END:VEVENT
BEGIN:VEVENT
DTSTART;TZID=America/New_York:20291202T110000
DTEND;TZID=America/New_York:20291202T120000
DTSTAMP:20260425T230042
CREATED:20251204T135428Z
LAST-MODIFIED:20260420T170813Z
UID:10008644-1890903600-1890907200@brynathynchurch.org
SUMMARY:Adult Service
DESCRIPTION:We would love to have you join us in-person or online for our next Adult Service. The service is about 45 minutes long and the sermon is aimed at high school age and up. \n\nPlease Note: The player below will always show information about the next Adult Service. To find other recordings\, visit the Adult Service Archive or the All Recent Services archive.
URL:https://brynathynchurch.org/calendar-event/adult-service-19/2029-12-02/
LOCATION:Bryn Athyn Cathedral\, 900 Cathedral Rd\, Bryn Athyn\, PA 19009\, United States
CATEGORIES:Bryn Athyn Church
END:VEVENT
BEGIN:VEVENT
DTSTART;TZID=America/New_York:20291209T110000
DTEND;TZID=America/New_York:20291209T120000
DTSTAMP:20260425T230042
CREATED:20251204T135428Z
LAST-MODIFIED:20260420T170813Z
UID:10008645-1891508400-1891512000@brynathynchurch.org
SUMMARY:Adult Service
DESCRIPTION:We would love to have you join us in-person or online for our next Adult Service. The service is about 45 minutes long and the sermon is aimed at high school age and up. \n\nPlease Note: The player below will always show information about the next Adult Service. To find other recordings\, visit the Adult Service Archive or the All Recent Services archive.
URL:https://brynathynchurch.org/calendar-event/adult-service-19/2029-12-09/
LOCATION:Bryn Athyn Cathedral\, 900 Cathedral Rd\, Bryn Athyn\, PA 19009\, United States
CATEGORIES:Bryn Athyn Church
END:VEVENT
BEGIN:VEVENT
DTSTART;TZID=America/New_York:20291216T110000
DTEND;TZID=America/New_York:20291216T120000
DTSTAMP:20260425T230042
CREATED:20251204T135428Z
LAST-MODIFIED:20260420T170813Z
UID:10008646-1892113200-1892116800@brynathynchurch.org
SUMMARY:Adult Service
DESCRIPTION:We would love to have you join us in-person or online for our next Adult Service. The service is about 45 minutes long and the sermon is aimed at high school age and up. \n\nPlease Note: The player below will always show information about the next Adult Service. To find other recordings\, visit the Adult Service Archive or the All Recent Services archive.
URL:https://brynathynchurch.org/calendar-event/adult-service-19/2029-12-16/
LOCATION:Bryn Athyn Cathedral\, 900 Cathedral Rd\, Bryn Athyn\, PA 19009\, United States
CATEGORIES:Bryn Athyn Church
END:VEVENT
BEGIN:VEVENT
DTSTART;TZID=America/New_York:20291223T110000
DTEND;TZID=America/New_York:20291223T120000
DTSTAMP:20260425T230042
CREATED:20251204T135428Z
LAST-MODIFIED:20260420T170813Z
UID:10008647-1892718000-1892721600@brynathynchurch.org
SUMMARY:Adult Service
DESCRIPTION:We would love to have you join us in-person or online for our next Adult Service. The service is about 45 minutes long and the sermon is aimed at high school age and up. \n\nPlease Note: The player below will always show information about the next Adult Service. To find other recordings\, visit the Adult Service Archive or the All Recent Services archive.
URL:https://brynathynchurch.org/calendar-event/adult-service-19/2029-12-23/
LOCATION:Bryn Athyn Cathedral\, 900 Cathedral Rd\, Bryn Athyn\, PA 19009\, United States
CATEGORIES:Bryn Athyn Church
END:VEVENT
BEGIN:VEVENT
DTSTART;TZID=America/New_York:20291230T110000
DTEND;TZID=America/New_York:20291230T120000
DTSTAMP:20260425T230042
CREATED:20251204T135428Z
LAST-MODIFIED:20260420T170813Z
UID:10008648-1893322800-1893326400@brynathynchurch.org
SUMMARY:Adult Service
DESCRIPTION:We would love to have you join us in-person or online for our next Adult Service. The service is about 45 minutes long and the sermon is aimed at high school age and up. \n\nPlease Note: The player below will always show information about the next Adult Service. To find other recordings\, visit the Adult Service Archive or the All Recent Services archive.
URL:https://brynathynchurch.org/calendar-event/adult-service-19/2029-12-30/
LOCATION:Bryn Athyn Cathedral\, 900 Cathedral Rd\, Bryn Athyn\, PA 19009\, United States
CATEGORIES:Bryn Athyn Church
END:VEVENT
BEGIN:VEVENT
DTSTART;TZID=America/New_York:20300106T110000
DTEND;TZID=America/New_York:20300106T120000
DTSTAMP:20260425T230042
CREATED:20251204T135428Z
LAST-MODIFIED:20260420T170813Z
UID:10008649-1893927600-1893931200@brynathynchurch.org
SUMMARY:Adult Service
DESCRIPTION:We would love to have you join us in-person or online for our next Adult Service. The service is about 45 minutes long and the sermon is aimed at high school age and up. \n\nPlease Note: The player below will always show information about the next Adult Service. To find other recordings\, visit the Adult Service Archive or the All Recent Services archive.
URL:https://brynathynchurch.org/calendar-event/adult-service-19/2030-01-06/
LOCATION:Bryn Athyn Cathedral\, 900 Cathedral Rd\, Bryn Athyn\, PA 19009\, United States
CATEGORIES:Bryn Athyn Church
END:VEVENT
BEGIN:VEVENT
DTSTART;TZID=America/New_York:20300113T110000
DTEND;TZID=America/New_York:20300113T120000
DTSTAMP:20260425T230042
CREATED:20251204T135428Z
LAST-MODIFIED:20260420T170813Z
UID:10008650-1894532400-1894536000@brynathynchurch.org
SUMMARY:Adult Service
DESCRIPTION:We would love to have you join us in-person or online for our next Adult Service. The service is about 45 minutes long and the sermon is aimed at high school age and up. \n\nPlease Note: The player below will always show information about the next Adult Service. To find other recordings\, visit the Adult Service Archive or the All Recent Services archive.
URL:https://brynathynchurch.org/calendar-event/adult-service-19/2030-01-13/
LOCATION:Bryn Athyn Cathedral\, 900 Cathedral Rd\, Bryn Athyn\, PA 19009\, United States
CATEGORIES:Bryn Athyn Church
END:VEVENT
BEGIN:VEVENT
DTSTART;TZID=America/New_York:20300120T110000
DTEND;TZID=America/New_York:20300120T120000
DTSTAMP:20260425T230042
CREATED:20251204T135428Z
LAST-MODIFIED:20260420T170813Z
UID:10008651-1895137200-1895140800@brynathynchurch.org
SUMMARY:Adult Service
DESCRIPTION:We would love to have you join us in-person or online for our next Adult Service. The service is about 45 minutes long and the sermon is aimed at high school age and up. \n\nPlease Note: The player below will always show information about the next Adult Service. To find other recordings\, visit the Adult Service Archive or the All Recent Services archive.
URL:https://brynathynchurch.org/calendar-event/adult-service-19/2030-01-20/
LOCATION:Bryn Athyn Cathedral\, 900 Cathedral Rd\, Bryn Athyn\, PA 19009\, United States
CATEGORIES:Bryn Athyn Church
END:VEVENT
BEGIN:VEVENT
DTSTART;TZID=America/New_York:20300127T110000
DTEND;TZID=America/New_York:20300127T120000
DTSTAMP:20260425T230042
CREATED:20251204T135428Z
LAST-MODIFIED:20260420T170813Z
UID:10008652-1895742000-1895745600@brynathynchurch.org
SUMMARY:Adult Service
DESCRIPTION:We would love to have you join us in-person or online for our next Adult Service. The service is about 45 minutes long and the sermon is aimed at high school age and up. \n\nPlease Note: The player below will always show information about the next Adult Service. To find other recordings\, visit the Adult Service Archive or the All Recent Services archive.
URL:https://brynathynchurch.org/calendar-event/adult-service-19/2030-01-27/
LOCATION:Bryn Athyn Cathedral\, 900 Cathedral Rd\, Bryn Athyn\, PA 19009\, United States
CATEGORIES:Bryn Athyn Church
END:VEVENT
BEGIN:VEVENT
DTSTART;TZID=America/New_York:20300203T110000
DTEND;TZID=America/New_York:20300203T120000
DTSTAMP:20260425T230042
CREATED:20251204T135428Z
LAST-MODIFIED:20260420T170813Z
UID:10008653-1896346800-1896350400@brynathynchurch.org
SUMMARY:Adult Service
DESCRIPTION:We would love to have you join us in-person or online for our next Adult Service. The service is about 45 minutes long and the sermon is aimed at high school age and up. \n\nPlease Note: The player below will always show information about the next Adult Service. To find other recordings\, visit the Adult Service Archive or the All Recent Services archive.
URL:https://brynathynchurch.org/calendar-event/adult-service-19/2030-02-03/
LOCATION:Bryn Athyn Cathedral\, 900 Cathedral Rd\, Bryn Athyn\, PA 19009\, United States
CATEGORIES:Bryn Athyn Church
END:VEVENT
BEGIN:VEVENT
DTSTART;TZID=America/New_York:20300210T110000
DTEND;TZID=America/New_York:20300210T120000
DTSTAMP:20260425T230042
CREATED:20251204T135428Z
LAST-MODIFIED:20260420T170813Z
UID:10008654-1896951600-1896955200@brynathynchurch.org
SUMMARY:Adult Service
DESCRIPTION:We would love to have you join us in-person or online for our next Adult Service. The service is about 45 minutes long and the sermon is aimed at high school age and up. \n\nPlease Note: The player below will always show information about the next Adult Service. To find other recordings\, visit the Adult Service Archive or the All Recent Services archive.
URL:https://brynathynchurch.org/calendar-event/adult-service-19/2030-02-10/
LOCATION:Bryn Athyn Cathedral\, 900 Cathedral Rd\, Bryn Athyn\, PA 19009\, United States
CATEGORIES:Bryn Athyn Church
END:VEVENT
BEGIN:VEVENT
DTSTART;TZID=America/New_York:20300217T110000
DTEND;TZID=America/New_York:20300217T120000
DTSTAMP:20260425T230042
CREATED:20251204T135428Z
LAST-MODIFIED:20260420T170813Z
UID:10008655-1897556400-1897560000@brynathynchurch.org
SUMMARY:Adult Service
DESCRIPTION:We would love to have you join us in-person or online for our next Adult Service. The service is about 45 minutes long and the sermon is aimed at high school age and up. \n\nPlease Note: The player below will always show information about the next Adult Service. To find other recordings\, visit the Adult Service Archive or the All Recent Services archive.
URL:https://brynathynchurch.org/calendar-event/adult-service-19/2030-02-17/
LOCATION:Bryn Athyn Cathedral\, 900 Cathedral Rd\, Bryn Athyn\, PA 19009\, United States
CATEGORIES:Bryn Athyn Church
END:VEVENT
BEGIN:VEVENT
DTSTART;TZID=America/New_York:20300224T110000
DTEND;TZID=America/New_York:20300224T120000
DTSTAMP:20260425T230042
CREATED:20251204T135428Z
LAST-MODIFIED:20260420T170813Z
UID:10008656-1898161200-1898164800@brynathynchurch.org
SUMMARY:Adult Service
DESCRIPTION:We would love to have you join us in-person or online for our next Adult Service. The service is about 45 minutes long and the sermon is aimed at high school age and up. \n\nPlease Note: The player below will always show information about the next Adult Service. To find other recordings\, visit the Adult Service Archive or the All Recent Services archive.
URL:https://brynathynchurch.org/calendar-event/adult-service-19/2030-02-24/
LOCATION:Bryn Athyn Cathedral\, 900 Cathedral Rd\, Bryn Athyn\, PA 19009\, United States
CATEGORIES:Bryn Athyn Church
END:VEVENT
BEGIN:VEVENT
DTSTART;TZID=America/New_York:20300303T110000
DTEND;TZID=America/New_York:20300303T120000
DTSTAMP:20260425T230042
CREATED:20251204T135428Z
LAST-MODIFIED:20260420T170813Z
UID:10008657-1898766000-1898769600@brynathynchurch.org
SUMMARY:Adult Service
DESCRIPTION:We would love to have you join us in-person or online for our next Adult Service. The service is about 45 minutes long and the sermon is aimed at high school age and up. \n\nPlease Note: The player below will always show information about the next Adult Service. To find other recordings\, visit the Adult Service Archive or the All Recent Services archive.
URL:https://brynathynchurch.org/calendar-event/adult-service-19/2030-03-03/
LOCATION:Bryn Athyn Cathedral\, 900 Cathedral Rd\, Bryn Athyn\, PA 19009\, United States
CATEGORIES:Bryn Athyn Church
END:VEVENT
BEGIN:VEVENT
DTSTART;TZID=America/New_York:20300310T110000
DTEND;TZID=America/New_York:20300310T120000
DTSTAMP:20260425T230042
CREATED:20251204T135428Z
LAST-MODIFIED:20260420T170813Z
UID:10008658-1899370800-1899374400@brynathynchurch.org
SUMMARY:Adult Service
DESCRIPTION:We would love to have you join us in-person or online for our next Adult Service. The service is about 45 minutes long and the sermon is aimed at high school age and up. \n\nPlease Note: The player below will always show information about the next Adult Service. To find other recordings\, visit the Adult Service Archive or the All Recent Services archive.
URL:https://brynathynchurch.org/calendar-event/adult-service-19/2030-03-10/
LOCATION:Bryn Athyn Cathedral\, 900 Cathedral Rd\, Bryn Athyn\, PA 19009\, United States
CATEGORIES:Bryn Athyn Church
END:VEVENT
BEGIN:VEVENT
DTSTART;TZID=America/New_York:20300317T110000
DTEND;TZID=America/New_York:20300317T120000
DTSTAMP:20260425T230042
CREATED:20251204T135428Z
LAST-MODIFIED:20260420T170813Z
UID:10008659-1899975600-1899979200@brynathynchurch.org
SUMMARY:Adult Service
DESCRIPTION:We would love to have you join us in-person or online for our next Adult Service. The service is about 45 minutes long and the sermon is aimed at high school age and up. \n\nPlease Note: The player below will always show information about the next Adult Service. To find other recordings\, visit the Adult Service Archive or the All Recent Services archive.
URL:https://brynathynchurch.org/calendar-event/adult-service-19/2030-03-17/
LOCATION:Bryn Athyn Cathedral\, 900 Cathedral Rd\, Bryn Athyn\, PA 19009\, United States
CATEGORIES:Bryn Athyn Church
END:VEVENT
BEGIN:VEVENT
DTSTART;TZID=America/New_York:20300324T110000
DTEND;TZID=America/New_York:20300324T120000
DTSTAMP:20260425T230042
CREATED:20251204T135428Z
LAST-MODIFIED:20260420T170813Z
UID:10008660-1900580400-1900584000@brynathynchurch.org
SUMMARY:Adult Service
DESCRIPTION:We would love to have you join us in-person or online for our next Adult Service. The service is about 45 minutes long and the sermon is aimed at high school age and up. \n\nPlease Note: The player below will always show information about the next Adult Service. To find other recordings\, visit the Adult Service Archive or the All Recent Services archive.
URL:https://brynathynchurch.org/calendar-event/adult-service-19/2030-03-24/
LOCATION:Bryn Athyn Cathedral\, 900 Cathedral Rd\, Bryn Athyn\, PA 19009\, United States
CATEGORIES:Bryn Athyn Church
END:VEVENT
END:VCALENDAR