BEGIN:VCALENDAR
VERSION:2.0
PRODID:-//Bryn Athyn Church - ECPv6.15.12.2//NONSGML v1.0//EN
CALSCALE:GREGORIAN
METHOD:PUBLISH
X-ORIGINAL-URL:https://brynathynchurch.org
X-WR-CALDESC:Events for Bryn Athyn Church
REFRESH-INTERVAL;VALUE=DURATION:PT1H
X-Robots-Tag:noindex
X-PUBLISHED-TTL:PT1H
BEGIN:VTIMEZONE
TZID:America/New_York
BEGIN:DAYLIGHT
TZOFFSETFROM:-0500
TZOFFSETTO:-0400
TZNAME:EDT
DTSTART:20250309T070000
END:DAYLIGHT
BEGIN:STANDARD
TZOFFSETFROM:-0400
TZOFFSETTO:-0500
TZNAME:EST
DTSTART:20251102T060000
END:STANDARD
BEGIN:DAYLIGHT
TZOFFSETFROM:-0500
TZOFFSETTO:-0400
TZNAME:EDT
DTSTART:20260308T070000
END:DAYLIGHT
BEGIN:STANDARD
TZOFFSETFROM:-0400
TZOFFSETTO:-0500
TZNAME:EST
DTSTART:20261101T060000
END:STANDARD
BEGIN:DAYLIGHT
TZOFFSETFROM:-0500
TZOFFSETTO:-0400
TZNAME:EDT
DTSTART:20270314T070000
END:DAYLIGHT
BEGIN:STANDARD
TZOFFSETFROM:-0400
TZOFFSETTO:-0500
TZNAME:EST
DTSTART:20271107T060000
END:STANDARD
END:VTIMEZONE
BEGIN:VEVENT
DTSTART;TZID=America/New_York:20260819T193000
DTEND;TZID=America/New_York:20260819T203000
DTSTAMP:20260425T173401
CREATED:20260415T160654Z
LAST-MODIFIED:20260422T142649Z
UID:10010132-1787167800-1787171400@brynathynchurch.org
SUMMARY:Sunset Organ Vespers
DESCRIPTION:Doors open at 7:10 pm\nWednesday\, August 19\, 7:30 pm: Aaron Patterson on organ\nMr. Patterson has been in demand as an organist from a young age and is a graduate of the Julliard School and Curtis Institute of Music.  He currently serves as organist/music associate at First Presbyterian Church in Jackson\, MS\, but is originally from this area and serves as an assistant recitalist at the Wanamaker Grand Court.\n\n  \nThis is the final Sunset Organ Vespers of 2026.  Our next Choral Vespers will be a Lessons and Carols on December 5th.
URL:https://brynathynchurch.org/calendar-event/sunset-organ-vespers-6-2026-08-19/
LOCATION:Bryn Athyn Cathedral\, 900 Cathedral Rd\, Bryn Athyn\, PA 19009\, United States
CATEGORIES:Bryn Athyn Church
END:VEVENT
END:VCALENDAR