BEGIN:VCALENDAR
VERSION:2.0
PRODID:-//Bryn Athyn Church - ECPv6.15.12.2//NONSGML v1.0//EN
CALSCALE:GREGORIAN
METHOD:PUBLISH
X-ORIGINAL-URL:https://brynathynchurch.org
X-WR-CALDESC:Events for Bryn Athyn Church
REFRESH-INTERVAL;VALUE=DURATION:PT1H
X-Robots-Tag:noindex
X-PUBLISHED-TTL:PT1H
BEGIN:VTIMEZONE
TZID:America/New_York
BEGIN:DAYLIGHT
TZOFFSETFROM:-0500
TZOFFSETTO:-0400
TZNAME:EDT
DTSTART:20250309T070000
END:DAYLIGHT
BEGIN:STANDARD
TZOFFSETFROM:-0400
TZOFFSETTO:-0500
TZNAME:EST
DTSTART:20251102T060000
END:STANDARD
BEGIN:DAYLIGHT
TZOFFSETFROM:-0500
TZOFFSETTO:-0400
TZNAME:EDT
DTSTART:20260308T070000
END:DAYLIGHT
BEGIN:STANDARD
TZOFFSETFROM:-0400
TZOFFSETTO:-0500
TZNAME:EST
DTSTART:20261101T060000
END:STANDARD
BEGIN:DAYLIGHT
TZOFFSETFROM:-0500
TZOFFSETTO:-0400
TZNAME:EDT
DTSTART:20270314T070000
END:DAYLIGHT
BEGIN:STANDARD
TZOFFSETFROM:-0400
TZOFFSETTO:-0500
TZNAME:EST
DTSTART:20271107T060000
END:STANDARD
END:VTIMEZONE
BEGIN:VEVENT
DTSTART;TZID=America/New_York:20260708T193000
DTEND;TZID=America/New_York:20260708T203000
DTSTAMP:20260425T155801
CREATED:20260415T160314Z
LAST-MODIFIED:20260415T162326Z
UID:10010131-1783539000-1783542600@brynathynchurch.org
SUMMARY:Sunset Organ Vespers
DESCRIPTION:Doors open at 7:10 pm\nWednesday\, July 8\, 7:30 pm: Paul Fleckenstein on organ\nMr. Fleckenstein is retired after an accomplished career as an organist. He served for many years at Westminster Presbyterian Church in Wilmington and continues as an organist substitute in the Philadelphia area.  He has also performed extensively as a concert organist\, choral conductor\, accompanist\, organ soloist with orchestras\, accompanist for silent movies\, cocktail pianist\, and professional choral singer.\n\n  \nupcoming:\nWednesday\, August 19\, 7:30 pm: Aaron Patterson on organ
URL:https://brynathynchurch.org/calendar-event/sunset-organ-vespers-6-2026-07-08/
LOCATION:Bryn Athyn Cathedral\, 900 Cathedral Rd\, Bryn Athyn\, PA 19009\, United States
CATEGORIES:Bryn Athyn Church
END:VEVENT
END:VCALENDAR