BEGIN:VCALENDAR
VERSION:2.0
PRODID:-//Bryn Athyn Church - ECPv6.15.12.2//NONSGML v1.0//EN
CALSCALE:GREGORIAN
METHOD:PUBLISH
X-ORIGINAL-URL:https://brynathynchurch.org
X-WR-CALDESC:Events for Bryn Athyn Church
REFRESH-INTERVAL;VALUE=DURATION:PT1H
X-Robots-Tag:noindex
X-PUBLISHED-TTL:PT1H
BEGIN:VTIMEZONE
TZID:America/New_York
BEGIN:DAYLIGHT
TZOFFSETFROM:-0500
TZOFFSETTO:-0400
TZNAME:EDT
DTSTART:20250309T070000
END:DAYLIGHT
BEGIN:STANDARD
TZOFFSETFROM:-0400
TZOFFSETTO:-0500
TZNAME:EST
DTSTART:20251102T060000
END:STANDARD
BEGIN:DAYLIGHT
TZOFFSETFROM:-0500
TZOFFSETTO:-0400
TZNAME:EDT
DTSTART:20260308T070000
END:DAYLIGHT
BEGIN:STANDARD
TZOFFSETFROM:-0400
TZOFFSETTO:-0500
TZNAME:EST
DTSTART:20261101T060000
END:STANDARD
BEGIN:DAYLIGHT
TZOFFSETFROM:-0500
TZOFFSETTO:-0400
TZNAME:EDT
DTSTART:20270314T070000
END:DAYLIGHT
BEGIN:STANDARD
TZOFFSETFROM:-0400
TZOFFSETTO:-0500
TZNAME:EST
DTSTART:20271107T060000
END:STANDARD
END:VTIMEZONE
BEGIN:VEVENT
DTSTART;TZID=America/New_York:20260517T100000
DTEND;TZID=America/New_York:20260517T110000
DTSTAMP:20260425T130111
CREATED:20260326T164628Z
LAST-MODIFIED:20260422T163735Z
UID:10010150-1779012000-1779015600@brynathynchurch.org
SUMMARY:Community Worship
DESCRIPTION:We would love to have you join us for our Community Worship Service. This service offers a chance to gather for worship\, reflection\, and connection as a community. There is one service on this Sunday\, beginning at 10:00 a.m.\, and you may want to arrive a bit early to find parking and a seat. \nEarly in the service\, children are invited forward for a children’s talk. Following this\, they can head to the south end of the building to take part in a variety of supervised activities\, such as stories\, crafts\, toys\, outdoor play\, or a scavenger hunt (see details below). \nChildren ages 5 and up may be dropped off in the Council Chamber during the adult portion of the service\, with the understanding that they will wait there to be picked up afterward. Children younger than 5 are also welcome to participate\, provided a parent or responsible family member stays with them. \nAfter the service\, families are invited to gather for refreshments in the Social Hall\, outside the cloister\, or by the porte cochère—a great opportunity to connect and enjoy time together. \n  \n\nLearn more about our Community Worship Service or view our other service offerings. \n\nOur next Community Worship will be on September 20\, 2026. Calendar Event Link
URL:https://brynathynchurch.org/calendar-event/community-worship-4/
LOCATION:Bryn Athyn Cathedral\, 900 Cathedral Rd\, Bryn Athyn\, PA 19009\, United States
CATEGORIES:Bryn Athyn Church
END:VEVENT
BEGIN:VEVENT
DTSTART;TZID=America/New_York:20260520T193000
DTEND;TZID=America/New_York:20260520T203000
DTSTAMP:20260425T130111
CREATED:20260415T155940Z
LAST-MODIFIED:20260415T162147Z
UID:10010129-1779305400-1779309000@brynathynchurch.org
SUMMARY:Sunset Organ Vespers
DESCRIPTION:Doors open at 7:10 pm\nWednesday\, May 20\, 7:30 pm: Jessie Zixi Deng on organ\nMs. Deng is from Pingxiang\, China and is currently studying organ at the Curtis Institute of Music having previously earned a Master of Music degree from the Shanghai Conservatory of Music.  While in Philadelphia she is also serving as organ scholar at St. Clement’s Church and previously served as organist at Good Shepherd Lutheran Church in nearby Southampton.\n\n  \nupcoming:\nWednesday\, June 10\, 7:30 pm: Elizabeth Pitcairn featured on violin with Leah Martin on organ\nWednesday\, July 8\, 7:30 pm: Paul Fleckenstein on organ\nWednesday\, August 19\, 7:30 pm: Aaron Patterson on organ
URL:https://brynathynchurch.org/calendar-event/sunset-organ-vespers-6-2026-05-20/
LOCATION:Bryn Athyn Cathedral\, 900 Cathedral Rd\, Bryn Athyn\, PA 19009\, United States
CATEGORIES:Bryn Athyn Church
END:VEVENT
END:VCALENDAR