BEGIN:VCALENDAR
VERSION:2.0
PRODID:-//Bryn Athyn Church - ECPv6.15.12.2//NONSGML v1.0//EN
CALSCALE:GREGORIAN
METHOD:PUBLISH
X-WR-CALNAME:Bryn Athyn Church
X-ORIGINAL-URL:https://brynathynchurch.org
X-WR-CALDESC:Events for Bryn Athyn Church
REFRESH-INTERVAL;VALUE=DURATION:PT1H
X-Robots-Tag:noindex
X-PUBLISHED-TTL:PT1H
BEGIN:VTIMEZONE
TZID:America/New_York
BEGIN:DAYLIGHT
TZOFFSETFROM:-0500
TZOFFSETTO:-0400
TZNAME:EDT
DTSTART:20250309T070000
END:DAYLIGHT
BEGIN:STANDARD
TZOFFSETFROM:-0400
TZOFFSETTO:-0500
TZNAME:EST
DTSTART:20251102T060000
END:STANDARD
BEGIN:DAYLIGHT
TZOFFSETFROM:-0500
TZOFFSETTO:-0400
TZNAME:EDT
DTSTART:20260308T070000
END:DAYLIGHT
BEGIN:STANDARD
TZOFFSETFROM:-0400
TZOFFSETTO:-0500
TZNAME:EST
DTSTART:20261101T060000
END:STANDARD
BEGIN:DAYLIGHT
TZOFFSETFROM:-0500
TZOFFSETTO:-0400
TZNAME:EDT
DTSTART:20270314T070000
END:DAYLIGHT
BEGIN:STANDARD
TZOFFSETFROM:-0400
TZOFFSETTO:-0500
TZNAME:EST
DTSTART:20271107T060000
END:STANDARD
END:VTIMEZONE
BEGIN:VEVENT
DTSTART;TZID=America/New_York:20260322T093000
DTEND;TZID=America/New_York:20260322T103000
DTSTAMP:20260425T125906
CREATED:20260217T161009Z
LAST-MODIFIED:20260320T183646Z
UID:10010042-1774171800-1774175400@brynathynchurch.org
SUMMARY:Easter Marionette Service @ Young Children's Service
DESCRIPTION:Bring your children or grandchildren for a simple depiction of the Easter story\, using marionettes. The whole service is 15-20 minutes long\, and it will be in the Council Chamber (the room above where Young Children’s Service normally takes place). The Rev. Jeffrey Smith will lead this service. \nMore information about our Young Children’s Service can be found here: Young Children’s Service – Bryn Athyn Church
URL:https://brynathynchurch.org/calendar-event/marionette-service-young-childrens-service/
LOCATION:Bryn Athyn Cathedral\, 900 Cathedral Rd\, Bryn Athyn\, PA 19009\, United States
CATEGORIES:Bryn Athyn Church
END:VEVENT
BEGIN:VEVENT
DTSTART;TZID=America/New_York:20260329T093000
DTEND;TZID=America/New_York:20260329T100000
DTSTAMP:20260425T125906
CREATED:20260218T172313Z
LAST-MODIFIED:20260320T184831Z
UID:10010059-1774776600-1774778400@brynathynchurch.org
SUMMARY:Palm Sunday - Young Children's Service
DESCRIPTION:There will be a celebration of Palm Sunday as part of a regular Young Children’s Service. There will be palm branches to wave around\, Hosannas to shout\, and Palm Sunday songs to sing. The Rev. Scott Frazier will lead this service.
URL:https://brynathynchurch.org/calendar-event/palm-sunday-young-childrens-service/
CATEGORIES:Bryn Athyn Church
END:VEVENT
BEGIN:VEVENT
DTSTART;TZID=America/New_York:20260329T093000
DTEND;TZID=America/New_York:20260329T101500
DTSTAMP:20260425T125906
CREATED:20260218T172107Z
LAST-MODIFIED:20260320T183938Z
UID:10010058-1774776600-1774779300@brynathynchurch.org
SUMMARY:Palm Sunday - Family Service
DESCRIPTION:The Family Service Palm Sunday celebration will be a regular Family Service with the addition of a palm procession in the middle\, accompanied by the Cathedral Brass. The Rev. Derek Elphick will lead this service. \nThe livestream will start 20 minutes before the service. Preludes (generally on organ) will start 15 minutes before the service. The service is usually about 30 minutes long. Look for the View the Program (PDF) link below to view the program for a given service. \n\nPlease Note: The player below will always show information about the next Family Service. To find other recordings\, visit the Family Service Archive or the All Recent Services archive.
URL:https://brynathynchurch.org/calendar-event/palm-sunday-family-service/
CATEGORIES:Bryn Athyn Church
END:VEVENT
BEGIN:VEVENT
DTSTART;TZID=America/New_York:20260329T101500
DTEND;TZID=America/New_York:20260329T110000
DTSTAMP:20260425T125906
CREATED:20260218T171838Z
LAST-MODIFIED:20260320T185325Z
UID:10010057-1774779300-1774782000@brynathynchurch.org
SUMMARY:Palm Sunday - Informal Family Service
DESCRIPTION:The Informal Family Service Palm Sunday celebration will begin\, as usual\, with music to sing along with at 10:15 am. Partway through the service there will be an opportunity for those who are able to go outside and participate in a palm procession involving the donkey. The Rev. Jeffrey Smith will lead this service. \n\nPlease Note: The player below will always show information about the next Informal Family Service. \n\n \n\n \n\nZoom Discussion at 11:30 am\nJoin Our Sunday Zoom Conversation\, every Sunday at 11:30am Eastern time. Join the Zoom meeting. \nWe would love to have you join us in-person or online for Informal Family Service. If you’re coming in-person\, read about timing\, parking\, and location.
URL:https://brynathynchurch.org/calendar-event/palm-sunday-informal-family-service/
CATEGORIES:Bryn Athyn Church
END:VEVENT
BEGIN:VEVENT
DTSTART;TZID=America/New_York:20260329T110000
DTEND;TZID=America/New_York:20260329T120000
DTSTAMP:20260425T125906
CREATED:20260218T171338Z
LAST-MODIFIED:20260320T185528Z
UID:10010056-1774782000-1774785600@brynathynchurch.org
SUMMARY:Palm Sunday - Adult Service
DESCRIPTION:The Adult Service on Palm Sunday will be a regular Adult Service with an opportunity\, for those that want\, to lay a palm branch down as they come into the nave at the beginning of the service. The Cathedral Brass will also play Palm Sunday preludes and postludes. The Rev. Derek Elphick will lead this service.  \nWe would love to have you join us in-person or online for our next Adult Service. The service is about 45 minutes long and the sermon is aimed at high school age and up. \n\nPlease Note: The player below will always show information about the next Adult Service. To find other recordings\, visit the Adult Service Archive or the All Recent Services archive.
URL:https://brynathynchurch.org/calendar-event/palm-sunday-adult-service/
CATEGORIES:Bryn Athyn Church
END:VEVENT
END:VCALENDAR