BEGIN:VCALENDAR
VERSION:2.0
PRODID:-//Bryn Athyn Church - ECPv6.15.12.2//NONSGML v1.0//EN
CALSCALE:GREGORIAN
METHOD:PUBLISH
X-ORIGINAL-URL:https://brynathynchurch.org
X-WR-CALDESC:Events for Bryn Athyn Church
REFRESH-INTERVAL;VALUE=DURATION:PT1H
X-Robots-Tag:noindex
X-PUBLISHED-TTL:PT1H
BEGIN:VTIMEZONE
TZID:America/New_York
BEGIN:DAYLIGHT
TZOFFSETFROM:-0500
TZOFFSETTO:-0400
TZNAME:EDT
DTSTART:20250309T070000
END:DAYLIGHT
BEGIN:STANDARD
TZOFFSETFROM:-0400
TZOFFSETTO:-0500
TZNAME:EST
DTSTART:20251102T060000
END:STANDARD
BEGIN:DAYLIGHT
TZOFFSETFROM:-0500
TZOFFSETTO:-0400
TZNAME:EDT
DTSTART:20260308T070000
END:DAYLIGHT
BEGIN:STANDARD
TZOFFSETFROM:-0400
TZOFFSETTO:-0500
TZNAME:EST
DTSTART:20261101T060000
END:STANDARD
BEGIN:DAYLIGHT
TZOFFSETFROM:-0500
TZOFFSETTO:-0400
TZNAME:EDT
DTSTART:20270314T070000
END:DAYLIGHT
BEGIN:STANDARD
TZOFFSETFROM:-0400
TZOFFSETTO:-0500
TZNAME:EST
DTSTART:20271107T060000
END:STANDARD
END:VTIMEZONE
BEGIN:VEVENT
DTSTART;TZID=America/New_York:20260520T210000
DTEND;TZID=America/New_York:20260520T223000
DTSTAMP:20260420T133955
CREATED:20260220T030427Z
LAST-MODIFIED:20260220T030427Z
UID:10010063-1779310800-1779316200@brynathynchurch.org
SUMMARY:QUIZZO @ C&S
DESCRIPTION:Join us at the C&S Club for trivia every Wednesday night with a different host every week and prizes for the winning team!
URL:https://brynathynchurch.org/calendar-event/quizzo-cs-169/
LOCATION:C&S Club
CATEGORIES:C&S Club
END:VEVENT
BEGIN:VEVENT
DTSTART;TZID=America/New_York:20260521T160000
DTEND;TZID=America/New_York:20260521T190000
DTSTAMP:20260420T133955
CREATED:20260220T003401Z
LAST-MODIFIED:20260220T003401Z
UID:10010062-1779379200-1779390000@brynathynchurch.org
SUMMARY:Third Thursdays in Spring at Glencairn Museum
DESCRIPTION:Glencairn Museum’s galleries are open forexploration! Join us this spring on the third Thursday of April\, May\, and Junefor three opportunities to wander\, discover\, and enjoy the collection above andbelow the first floor. From 4:00–7:00pm\, visitors can self-guide through spaces usually seen on guided tours\, aswell as some spaces that are often unseen! Staff will be on hand to answer yourquestions and help you find your way. Complimentary tea and coffee will beavailable on the first floor. \nPlease note that thehistoric elevator will be available for accessibility only\, and the Tower willnot be available \nhttps://www.glencairnmuseum.org/upcoming-events/2026/4/16/third-thursdays-in-spring-at-glencairn-museum
URL:https://brynathynchurch.org/calendar-event/third-thursdays-in-spring-at-glencairn-museum-2/
LOCATION:Glencairn Museum
CATEGORIES:Glencairn Museum
END:VEVENT
BEGIN:VEVENT
DTSTART;TZID=America/New_York:20260523T080000
DTEND;TZID=America/New_York:20260523T100000
DTSTAMP:20260420T133955
CREATED:20260304T171818Z
LAST-MODIFIED:20260304T171908Z
UID:10010077-1779523200-1779530400@brynathynchurch.org
SUMMARY:5K Run/Walk and Kids Dash - Kempton New Church Fundraiser
DESCRIPTION:Saturday\, May 23\, 8:00 am start \nWHERE: Kempton Community Center \nWHO: Anyone up for running or walking a 5K course on mixed terrain. Children will be invited to sign up for a short distance race at no charge. 5K RACE ENTRY COST: $10 \n5K RACE ENTRY AND T-SHIRT: $20 (sign up by April 18) \nFor more info\, visit our Facebook event page: Facebook event page. For any questions and offers\, contact Eliza 781-879-7186.
URL:https://brynathynchurch.org/calendar-event/5k-run-walk-and-kids-dash-kempton-new-church-fundraiser/
CATEGORIES:Other
END:VEVENT
BEGIN:VEVENT
DTSTART;TZID=America/New_York:20260524T093000
DTEND;TZID=America/New_York:20260524T100000
DTSTAMP:20260420T133955
CREATED:20250903T171138Z
LAST-MODIFIED:20260420T165738Z
UID:10007429-1779615000-1779616800@brynathynchurch.org
SUMMARY:Young Children's Service
DESCRIPTION:This short and sweet service is only in person and is for families with young children (though children of all ages are welcome). It is held in the Council Chamber or Undercroft or outside (during warmer months) at the Bryn Athyn Cathedral. \nFind the topic for the week at https://brynathynchurch.org/worship/young-childrens-service/
URL:https://brynathynchurch.org/calendar-event/young-childrens-service-30/2026-05-24/
LOCATION:Cathedral Undercroft\, 900 Cathedral Road\, Bryn Athyn\, PA\, 19009\, United States
CATEGORIES:Bryn Athyn Church
END:VEVENT
BEGIN:VEVENT
DTSTART;TZID=America/New_York:20260524T093000
DTEND;TZID=America/New_York:20260524T101500
DTSTAMP:20260420T133955
CREATED:20260326T165059Z
LAST-MODIFIED:20260407T164912Z
UID:10007251-1779615000-1779617700@brynathynchurch.org
SUMMARY:Family Service
DESCRIPTION:We’d love to have you join us in person or online. This service has one talk for the whole family. \nThe livestream will start 20 minutes before the service. Preludes (generally on organ) will start 15 minutes before the service. The service is usually about 30 minutes long. Look for the View the Program (PDF) link below to view the program for a given service. \n\nPlease Note: The player below will always show information about the next Family Service. To find other recordings\, visit the Family Service Archive or the All Recent Services archive.
URL:https://brynathynchurch.org/calendar-event/family-cathedral-service-17-61-14-2-2/2026-05-24/
LOCATION:Bryn Athyn Cathedral\, 900 Cathedral Rd\, Bryn Athyn\, PA 19009\, USA
CATEGORIES:Bryn Athyn Church
END:VEVENT
BEGIN:VEVENT
DTSTART;TZID=America/New_York:20260524T101500
DTEND;TZID=America/New_York:20260524T110000
DTSTAMP:20260420T133955
CREATED:20251227T135337Z
LAST-MODIFIED:20260420T170604Z
UID:10009175-1779617700-1779620400@brynathynchurch.org
SUMMARY:Informal Family Service
DESCRIPTION:We would love to have you join us in-person or online for Informal Family Service. If you’re coming in-person\, read about timing\, parking\, and location. \n\nPlease Note: The player below will always show information about the next Informal Family Service. \n\n \n\n \n\nZoom Discussion at 11:30 am\nJoin Our Sunday Zoom Conversation\, every Sunday at 11:30am Eastern time. Join the Zoom meeting.
URL:https://brynathynchurch.org/calendar-event/informal-family-service-55/2026-05-24/
LOCATION:Cathedral Undercroft\, 900 Cathedral Road\, Bryn Athyn\, PA\, 19009\, United States
CATEGORIES:Bryn Athyn Church
END:VEVENT
BEGIN:VEVENT
DTSTART;TZID=America/New_York:20260524T110000
DTEND;TZID=America/New_York:20260524T120000
DTSTAMP:20260420T133955
CREATED:20260304T174609Z
LAST-MODIFIED:20260304T174700Z
UID:10008460-1779620400-1779624000@brynathynchurch.org
SUMMARY:Adult Service- Interim Holy Supper
DESCRIPTION:We would love to have you join us in-person or online for our next Adult Service. The service is about 45 minutes long and the sermon is aimed at high school age and up. \nInterim Holy Supper (with alternatives) will follow Adult Service \n\nPlease Note: The player below will always show information about the next Adult Service. To find other recordings\, visit the Adult Service Archive or the All Recent Services archive. \nCode Embed: Cannot use CODE-Adult-Player as a global code as it is being used to store 2 unique pieces of code in 4 posts
URL:https://brynathynchurch.org/calendar-event/adult-service-19-5/
LOCATION:Bryn Athyn Cathedral\, 900 Cathedral Rd\, Bryn Athyn\, PA 19009\, United States
CATEGORIES:Bryn Athyn Church
END:VEVENT
BEGIN:VEVENT
DTSTART;TZID=America/New_York:20260525T080000
DTEND;TZID=America/New_York:20260525T170000
DTSTAMP:20260420T133955
CREATED:20260414T144442Z
LAST-MODIFIED:20260414T144442Z
UID:10010461-1779696000-1779728400@brynathynchurch.org
SUMMARY:Memorial Day
DESCRIPTION:BACS\, Church Office and Cathedral closed.
URL:https://brynathynchurch.org/calendar-event/memorial-day-2/
CATEGORIES:BACS (Bryn Athyn Church School),Bryn Athyn Church
END:VEVENT
BEGIN:VEVENT
DTSTART;TZID=America/New_York:20260525T080000
DTEND;TZID=America/New_York:20260525T170000
DTSTAMP:20260420T133955
CREATED:20260417T194248Z
LAST-MODIFIED:20260417T194248Z
UID:10010466-1779696000-1779728400@brynathynchurch.org
SUMMARY:No BA Post this week
DESCRIPTION:
URL:https://brynathynchurch.org/calendar-event/no-ba-post-this-week/
CATEGORIES:Bryn Athyn Church
END:VEVENT
BEGIN:VEVENT
DTSTART;TZID=America/New_York:20260525T150000
DTEND;TZID=America/New_York:20260525T160000
DTSTAMP:20260420T133955
CREATED:20260407T163607Z
LAST-MODIFIED:20260407T163607Z
UID:10010190-1779721200-1779724800@brynathynchurch.org
SUMMARY:IFS Planning Meeting
DESCRIPTION:
URL:https://brynathynchurch.org/calendar-event/ifs-planning-meeting/2026-05-25/
CATEGORIES:Bryn Athyn Church
END:VEVENT
BEGIN:VEVENT
DTSTART;TZID=America/New_York:20260527T190000
DTEND;TZID=America/New_York:20260527T210000
DTSTAMP:20260420T133955
CREATED:20250811T172305Z
LAST-MODIFIED:20260128T144056Z
UID:10007368-1779908400-1779915600@brynathynchurch.org
SUMMARY:Rise Above It Monthly Meeting
DESCRIPTION:A 10-month program that will take you deeper into the joy of living the 10 commandments. \nWould you like to improve your life? Your relationships? Are you ready for some breakthroughs? If so\, we’ve got good news for you! \nBryn Athyn Church will be focusing on the Ten Commandments this school year in several of our worship services and special events. A significant part of this focus will be inviting you to join large and small groups to study and practice the Ten Commandments using the book “Rise Above It.” We are thrilled to have the authors Rev. Ray and Star Silverman leading this effort! \nThis program will continue throughout the school year\, meeting once monthly\, with all the small groups together. Ray and Star will present the information and lead us through the activities\, while participants sit with their group for discussion and to complete the tasks. Small groups can be a rotating collection of people\, or you can sign up with a specific leader or with your ready-made group of eight. Groups have the option to meet with just themselves partway through the month for discussion\, inspiration\, and community building. \nHere is a little more information about Rev. Ray and Star Silverman’s book: \nIf you want to enter into life – a joyful\, peaceful\, vibrant\, and deeply spiritual life – the path is simple: believe in God and keep the commandments. Sometimes\, however\, this is easier said than done. \nThis book explores each of the Ten Commandments and demonstrates how we can apply them in our daily lives. Drawing from different sacred texts\, including the Writings of Emanuel Swedenborg\, this book shows how\, by living a life according to the commandments\, we can be happier here on earth and continue into the next life. \nFilled with candid and inspiring journal entries from seminar participants\, and enriched by the teachings of the great religions\, this book invites you to enter into a life of ever-increasing love\, wisdom\, and service. \nVisit www.brynathynchurch.org/riseaboveit to learn more about the program.
URL:https://brynathynchurch.org/calendar-event/monthly-meeting-10/
LOCATION:Asplundh Assembly Hall\, 600 Tomlinson Rd\, Huntingdon Valley\, PA 19006\, USA
CATEGORIES:Bryn Athyn Church
END:VEVENT
BEGIN:VEVENT
DTSTART;TZID=America/New_York:20260527T210000
DTEND;TZID=America/New_York:20260527T223000
DTSTAMP:20260420T133955
CREATED:20260227T034859Z
LAST-MODIFIED:20260227T034859Z
UID:10010069-1779915600-1779921000@brynathynchurch.org
SUMMARY:QUIZZO @ C&S
DESCRIPTION:Join us at the C&S Club for trivia every Wednesday night with a different host every week and prizes for the winning team!
URL:https://brynathynchurch.org/calendar-event/quizzo-cs-170/
LOCATION:C&S Club
CATEGORIES:C&S Club
END:VEVENT
BEGIN:VEVENT
DTSTART;TZID=America/New_York:20260529T200000
DTEND;TZID=America/New_York:20260529T210000
DTSTAMP:20260420T133955
CREATED:20260407T165749Z
LAST-MODIFIED:20260407T165815Z
UID:10010447-1780084800-1780088400@brynathynchurch.org
SUMMARY:ANC Performing Arts Concert/Exhibit
DESCRIPTION:
URL:https://brynathynchurch.org/calendar-event/anc-performing-arts-concert-exhibit/
LOCATION:Mitchell Performing Arts Center\, 800 Tomlinson Rd\, Bryn Athyn\, PA 19009\, USA
CATEGORIES:ANC Secondary Schools
END:VEVENT
BEGIN:VEVENT
DTSTART;TZID=America/New_York:20260531T093000
DTEND;TZID=America/New_York:20260531T100000
DTSTAMP:20260420T133955
CREATED:20250903T171138Z
LAST-MODIFIED:20260420T165738Z
UID:10007430-1780219800-1780221600@brynathynchurch.org
SUMMARY:Young Children's Service
DESCRIPTION:This short and sweet service is only in person and is for families with young children (though children of all ages are welcome). It is held in the Council Chamber or Undercroft or outside (during warmer months) at the Bryn Athyn Cathedral. \nFind the topic for the week at https://brynathynchurch.org/worship/young-childrens-service/
URL:https://brynathynchurch.org/calendar-event/young-childrens-service-30/2026-05-31/
LOCATION:Cathedral Undercroft\, 900 Cathedral Road\, Bryn Athyn\, PA\, 19009\, United States
CATEGORIES:Bryn Athyn Church
END:VEVENT
BEGIN:VEVENT
DTSTART;TZID=America/New_York:20260531T093000
DTEND;TZID=America/New_York:20260531T101500
DTSTAMP:20260420T133955
CREATED:20260326T165059Z
LAST-MODIFIED:20260407T164912Z
UID:10007252-1780219800-1780222500@brynathynchurch.org
SUMMARY:Family Service
DESCRIPTION:We’d love to have you join us in person or online. This service has one talk for the whole family. \nThe livestream will start 20 minutes before the service. Preludes (generally on organ) will start 15 minutes before the service. The service is usually about 30 minutes long. Look for the View the Program (PDF) link below to view the program for a given service. \n\nPlease Note: The player below will always show information about the next Family Service. To find other recordings\, visit the Family Service Archive or the All Recent Services archive.
URL:https://brynathynchurch.org/calendar-event/family-cathedral-service-17-61-14-2-2/2026-05-31/
LOCATION:Bryn Athyn Cathedral\, 900 Cathedral Rd\, Bryn Athyn\, PA 19009\, USA
CATEGORIES:Bryn Athyn Church
END:VEVENT
BEGIN:VEVENT
DTSTART;TZID=America/New_York:20260531T101500
DTEND;TZID=America/New_York:20260531T110000
DTSTAMP:20260420T133955
CREATED:20251227T135337Z
LAST-MODIFIED:20260420T170604Z
UID:10009176-1780222500-1780225200@brynathynchurch.org
SUMMARY:Informal Family Service
DESCRIPTION:We would love to have you join us in-person or online for Informal Family Service. If you’re coming in-person\, read about timing\, parking\, and location. \n\nPlease Note: The player below will always show information about the next Informal Family Service. \n\n \n\n \n\nZoom Discussion at 11:30 am\nJoin Our Sunday Zoom Conversation\, every Sunday at 11:30am Eastern time. Join the Zoom meeting.
URL:https://brynathynchurch.org/calendar-event/informal-family-service-55/2026-05-31/
LOCATION:Cathedral Undercroft\, 900 Cathedral Road\, Bryn Athyn\, PA\, 19009\, United States
CATEGORIES:Bryn Athyn Church
END:VEVENT
BEGIN:VEVENT
DTSTART;TZID=America/New_York:20260531T110000
DTEND;TZID=America/New_York:20260531T120000
DTSTAMP:20260420T133955
CREATED:20251204T135428Z
LAST-MODIFIED:20260420T170813Z
UID:10008461-1780225200-1780228800@brynathynchurch.org
SUMMARY:Adult Service
DESCRIPTION:We would love to have you join us in-person or online for our next Adult Service. The service is about 45 minutes long and the sermon is aimed at high school age and up. \n\nPlease Note: The player below will always show information about the next Adult Service. To find other recordings\, visit the Adult Service Archive or the All Recent Services archive.
URL:https://brynathynchurch.org/calendar-event/adult-service-19/2026-05-31/
LOCATION:Bryn Athyn Cathedral\, 900 Cathedral Rd\, Bryn Athyn\, PA 19009\, United States
CATEGORIES:Bryn Athyn Church
END:VEVENT
BEGIN:VEVENT
DTSTART;TZID=America/New_York:20260601T150000
DTEND;TZID=America/New_York:20260601T160000
DTSTAMP:20260420T133955
CREATED:20260407T163607Z
LAST-MODIFIED:20260407T163607Z
UID:10010191-1780326000-1780329600@brynathynchurch.org
SUMMARY:IFS Planning Meeting
DESCRIPTION:
URL:https://brynathynchurch.org/calendar-event/ifs-planning-meeting/2026-06-01/
CATEGORIES:Bryn Athyn Church
END:VEVENT
BEGIN:VEVENT
DTSTART;TZID=America/New_York:20260603T170000
DTEND;TZID=America/New_York:20260603T180000
DTSTAMP:20260420T133955
CREATED:20260407T165553Z
LAST-MODIFIED:20260407T165553Z
UID:10010446-1780506000-1780509600@brynathynchurch.org
SUMMARY:ANC '26 Senior Blessing Service
DESCRIPTION:
URL:https://brynathynchurch.org/calendar-event/anc-26-senior-blessing-service/
LOCATION:Bryn Athyn Cathedral\, 900 Cathedral Rd\, Bryn Athyn\, PA 19009\, United States
CATEGORIES:Bryn Athyn Church
END:VEVENT
BEGIN:VEVENT
DTSTART;TZID=America/New_York:20260603T190000
DTEND;TZID=America/New_York:20260603T203000
DTSTAMP:20260420T133955
CREATED:20260319T155555Z
LAST-MODIFIED:20260319T155555Z
UID:10010127-1780513200-1780518600@brynathynchurch.org
SUMMARY:BACS Spring Concert
DESCRIPTION:
URL:https://brynathynchurch.org/calendar-event/bacs-spring-concert/
LOCATION:Bryn Athyn Church School\, 600 Tomlinson Rd\, Huntingdon Valley\, PA 19006\, USA
CATEGORIES:BACS (Bryn Athyn Church School)
END:VEVENT
BEGIN:VEVENT
DTSTART;TZID=America/New_York:20260603T191500
DTEND;TZID=America/New_York:20260603T203000
DTSTAMP:20260420T133955
CREATED:20260331T124336Z
LAST-MODIFIED:20260331T124336Z
UID:10010157-1780514100-1780518600@brynathynchurch.org
SUMMARY:That was Then\, This is Now (Zoom)
DESCRIPTION:THAT WAS THEN\, THIS IS NOW \nCARING FOR OUR ELDERLY LOVED ONES \nWednesday\, April 1\, 7:15-8:30 pm (Zoom) \nAre you caring for a loved one that is aging? Sometimes that is a very big addition to one’s already full life. “That was Then\, This is Now” is a monthly group to support you on that journey. We meet monthly on Zoom on the first Wednesday of each month\, 7:15-8:30 pm. Contact Nina at nina.dewees@brynathynchurch.org to get the Zoom link or learn more about the group. We would love to welcome you to this understanding and caring group.
URL:https://brynathynchurch.org/calendar-event/that-was-then-this-is-now-zoom/2026-06-03/
CATEGORIES:Bryn Athyn Church
END:VEVENT
BEGIN:VEVENT
DTSTART;TZID=America/New_York:20260603T210000
DTEND;TZID=America/New_York:20260603T223000
DTSTAMP:20260420T133955
CREATED:20260306T041909Z
LAST-MODIFIED:20260306T041909Z
UID:10010091-1780520400-1780525800@brynathynchurch.org
SUMMARY:QUIZZO @ C&S
DESCRIPTION:Join us at the C&S Club for trivia every Wednesday night with a different host every week and prizes for the winning team!
URL:https://brynathynchurch.org/calendar-event/quizzo-cs-171/
LOCATION:C&S Club
CATEGORIES:C&S Club
END:VEVENT
BEGIN:VEVENT
DTSTART;TZID=America/New_York:20260605T110000
DTEND;TZID=America/New_York:20260605T110000
DTSTAMP:20260420T133955
CREATED:20260319T155157Z
LAST-MODIFIED:20260319T155429Z
UID:10010126-1780657200-1780657200@brynathynchurch.org
SUMMARY:Graduation and Closing Ceremony
DESCRIPTION:
URL:https://brynathynchurch.org/calendar-event/graduation-and-closing-ceremony/
LOCATION:Bryn Athyn Church School\, 600 Tomlinson Rd\, Bryn Athyn\, PA 19009\, USA
CATEGORIES:BACS (Bryn Athyn Church School)
END:VEVENT
BEGIN:VEVENT
DTSTART;TZID=America/New_York:20260606T100000
DTEND;TZID=America/New_York:20260606T120000
DTSTAMP:20260420T133955
CREATED:20260407T165923Z
LAST-MODIFIED:20260407T165923Z
UID:10010448-1780740000-1780747200@brynathynchurch.org
SUMMARY:ANC Graduation Ceremony
DESCRIPTION:
URL:https://brynathynchurch.org/calendar-event/anc-graduation-ceremony/
LOCATION:Asplundh Field House\, 2775 Buck Rd\, Bryn Athyn\, PA 19009\, USA
CATEGORIES:ANC Secondary Schools
END:VEVENT
BEGIN:VEVENT
DTSTART;TZID=America/New_York:20260607T093000
DTEND;TZID=America/New_York:20260607T100000
DTSTAMP:20260420T133955
CREATED:20250903T171138Z
LAST-MODIFIED:20260420T165738Z
UID:10007431-1780824600-1780826400@brynathynchurch.org
SUMMARY:Young Children's Service
DESCRIPTION:This short and sweet service is only in person and is for families with young children (though children of all ages are welcome). It is held in the Council Chamber or Undercroft or outside (during warmer months) at the Bryn Athyn Cathedral. \nFind the topic for the week at https://brynathynchurch.org/worship/young-childrens-service/
URL:https://brynathynchurch.org/calendar-event/young-childrens-service-30/2026-06-07/
LOCATION:Cathedral Undercroft\, 900 Cathedral Road\, Bryn Athyn\, PA\, 19009\, United States
CATEGORIES:Bryn Athyn Church
END:VEVENT
BEGIN:VEVENT
DTSTART;TZID=America/New_York:20260607T093000
DTEND;TZID=America/New_York:20260607T101500
DTSTAMP:20260420T133955
CREATED:20260326T165059Z
LAST-MODIFIED:20260407T164912Z
UID:10007253-1780824600-1780827300@brynathynchurch.org
SUMMARY:Family Service
DESCRIPTION:We’d love to have you join us in person or online. This service has one talk for the whole family. \nThe livestream will start 20 minutes before the service. Preludes (generally on organ) will start 15 minutes before the service. The service is usually about 30 minutes long. Look for the View the Program (PDF) link below to view the program for a given service. \n\nPlease Note: The player below will always show information about the next Family Service. To find other recordings\, visit the Family Service Archive or the All Recent Services archive.
URL:https://brynathynchurch.org/calendar-event/family-cathedral-service-17-61-14-2-2/2026-06-07/
LOCATION:Bryn Athyn Cathedral\, 900 Cathedral Rd\, Bryn Athyn\, PA 19009\, USA
CATEGORIES:Bryn Athyn Church
END:VEVENT
BEGIN:VEVENT
DTSTART;TZID=America/New_York:20260607T101500
DTEND;TZID=America/New_York:20260607T110000
DTSTAMP:20260420T133955
CREATED:20251227T135337Z
LAST-MODIFIED:20260420T170604Z
UID:10009177-1780827300-1780830000@brynathynchurch.org
SUMMARY:Informal Family Service
DESCRIPTION:We would love to have you join us in-person or online for Informal Family Service. If you’re coming in-person\, read about timing\, parking\, and location. \n\nPlease Note: The player below will always show information about the next Informal Family Service. \n\n \n\n \n\nZoom Discussion at 11:30 am\nJoin Our Sunday Zoom Conversation\, every Sunday at 11:30am Eastern time. Join the Zoom meeting.
URL:https://brynathynchurch.org/calendar-event/informal-family-service-55/2026-06-07/
LOCATION:Cathedral Undercroft\, 900 Cathedral Road\, Bryn Athyn\, PA\, 19009\, United States
CATEGORIES:Bryn Athyn Church
END:VEVENT
BEGIN:VEVENT
DTSTART;TZID=America/New_York:20260607T110000
DTEND;TZID=America/New_York:20260607T120000
DTSTAMP:20260420T133955
CREATED:20251204T135428Z
LAST-MODIFIED:20260420T170813Z
UID:10008462-1780830000-1780833600@brynathynchurch.org
SUMMARY:Adult Service
DESCRIPTION:We would love to have you join us in-person or online for our next Adult Service. The service is about 45 minutes long and the sermon is aimed at high school age and up. \n\nPlease Note: The player below will always show information about the next Adult Service. To find other recordings\, visit the Adult Service Archive or the All Recent Services archive.
URL:https://brynathynchurch.org/calendar-event/adult-service-19/2026-06-07/
LOCATION:Bryn Athyn Cathedral\, 900 Cathedral Rd\, Bryn Athyn\, PA 19009\, United States
CATEGORIES:Bryn Athyn Church
END:VEVENT
BEGIN:VEVENT
DTSTART;TZID=America/New_York:20260608T150000
DTEND;TZID=America/New_York:20260608T160000
DTSTAMP:20260420T133955
CREATED:20260407T163607Z
LAST-MODIFIED:20260407T163607Z
UID:10010192-1780930800-1780934400@brynathynchurch.org
SUMMARY:IFS Planning Meeting
DESCRIPTION:
URL:https://brynathynchurch.org/calendar-event/ifs-planning-meeting/2026-06-08/
CATEGORIES:Bryn Athyn Church
END:VEVENT
BEGIN:VEVENT
DTSTART;TZID=America/New_York:20260608T180000
DTEND;TZID=America/New_York:20260608T190000
DTSTAMP:20260420T133955
CREATED:20260310T043358Z
LAST-MODIFIED:20260310T043358Z
UID:10010097-1780941600-1780945200@brynathynchurch.org
SUMMARY:C&S Club Board Meeting
DESCRIPTION:Join us for our monthly Board Meeting at the C&S Club. Share ideas for future events\, volunteer to help make the club a better place\, or just listen in on what’s going on at the club!
URL:https://brynathynchurch.org/calendar-event/cs-club-board-meeting-63/
LOCATION:C&S Club
CATEGORIES:C&S Club
END:VEVENT
END:VCALENDAR