BEGIN:VCALENDAR
VERSION:2.0
PRODID:-//Bryn Athyn Church - ECPv6.15.12.2//NONSGML v1.0//EN
CALSCALE:GREGORIAN
METHOD:PUBLISH
X-WR-CALNAME:Bryn Athyn Church
X-ORIGINAL-URL:https://brynathynchurch.org
X-WR-CALDESC:Events for Bryn Athyn Church
REFRESH-INTERVAL;VALUE=DURATION:PT1H
X-Robots-Tag:noindex
X-PUBLISHED-TTL:PT1H
BEGIN:VTIMEZONE
TZID:America/New_York
BEGIN:DAYLIGHT
TZOFFSETFROM:-0500
TZOFFSETTO:-0400
TZNAME:EDT
DTSTART:20300310T070000
END:DAYLIGHT
BEGIN:STANDARD
TZOFFSETFROM:-0400
TZOFFSETTO:-0500
TZNAME:EST
DTSTART:20301103T060000
END:STANDARD
BEGIN:DAYLIGHT
TZOFFSETFROM:-0500
TZOFFSETTO:-0400
TZNAME:EDT
DTSTART:20310309T070000
END:DAYLIGHT
BEGIN:STANDARD
TZOFFSETFROM:-0400
TZOFFSETTO:-0500
TZNAME:EST
DTSTART:20311102T060000
END:STANDARD
BEGIN:DAYLIGHT
TZOFFSETFROM:-0500
TZOFFSETTO:-0400
TZNAME:EDT
DTSTART:20320314T070000
END:DAYLIGHT
BEGIN:STANDARD
TZOFFSETFROM:-0400
TZOFFSETTO:-0500
TZNAME:EST
DTSTART:20321107T060000
END:STANDARD
END:VTIMEZONE
BEGIN:VEVENT
DTSTART;TZID=America/New_York:20310420T101500
DTEND;TZID=America/New_York:20310420T110000
DTSTAMP:20260425T154310
CREATED:20251227T135337Z
LAST-MODIFIED:20260420T170604Z
UID:10010473-1934446500-1934449200@brynathynchurch.org
SUMMARY:Informal Family Service
DESCRIPTION:We would love to have you join us in-person or online for Informal Family Service. If you’re coming in-person\, read about timing\, parking\, and location. \n\nPlease Note: The player below will always show information about the next Informal Family Service. \n\n \n\n \n\nZoom Discussion at 11:30 am\nJoin Our Sunday Zoom Conversation\, every Sunday at 11:30am Eastern time. Join the Zoom meeting.
URL:https://brynathynchurch.org/calendar-event/informal-family-service-55/2031-04-20/
LOCATION:Cathedral Undercroft\, 900 Cathedral Road\, Bryn Athyn\, PA\, 19009\, United States
CATEGORIES:Bryn Athyn Church
END:VEVENT
BEGIN:VEVENT
DTSTART;TZID=America/New_York:20310420T110000
DTEND;TZID=America/New_York:20310420T120000
DTSTAMP:20260425T154310
CREATED:20251204T135428Z
LAST-MODIFIED:20260420T170813Z
UID:10010474-1934449200-1934452800@brynathynchurch.org
SUMMARY:Adult Service
DESCRIPTION:We would love to have you join us in-person or online for our next Adult Service. The service is about 45 minutes long and the sermon is aimed at high school age and up. \n\nPlease Note: The player below will always show information about the next Adult Service. To find other recordings\, visit the Adult Service Archive or the All Recent Services archive.
URL:https://brynathynchurch.org/calendar-event/adult-service-19/2031-04-20/
LOCATION:Bryn Athyn Cathedral\, 900 Cathedral Rd\, Bryn Athyn\, PA 19009\, United States
CATEGORIES:Bryn Athyn Church
END:VEVENT
END:VCALENDAR