BEGIN:VCALENDAR
VERSION:2.0
PRODID:-//Bryn Athyn Church - ECPv6.15.12.2//NONSGML v1.0//EN
CALSCALE:GREGORIAN
METHOD:PUBLISH
X-ORIGINAL-URL:https://brynathynchurch.org
X-WR-CALDESC:Events for Bryn Athyn Church
REFRESH-INTERVAL;VALUE=DURATION:PT1H
X-Robots-Tag:noindex
X-PUBLISHED-TTL:PT1H
BEGIN:VTIMEZONE
TZID:America/New_York
BEGIN:DAYLIGHT
TZOFFSETFROM:-0500
TZOFFSETTO:-0400
TZNAME:EDT
DTSTART:20250309T070000
END:DAYLIGHT
BEGIN:STANDARD
TZOFFSETFROM:-0400
TZOFFSETTO:-0500
TZNAME:EST
DTSTART:20251102T060000
END:STANDARD
BEGIN:DAYLIGHT
TZOFFSETFROM:-0500
TZOFFSETTO:-0400
TZNAME:EDT
DTSTART:20260308T070000
END:DAYLIGHT
BEGIN:STANDARD
TZOFFSETFROM:-0400
TZOFFSETTO:-0500
TZNAME:EST
DTSTART:20261101T060000
END:STANDARD
BEGIN:DAYLIGHT
TZOFFSETFROM:-0500
TZOFFSETTO:-0400
TZNAME:EDT
DTSTART:20270314T070000
END:DAYLIGHT
BEGIN:STANDARD
TZOFFSETFROM:-0400
TZOFFSETTO:-0500
TZNAME:EST
DTSTART:20271107T060000
END:STANDARD
END:VTIMEZONE
BEGIN:VEVENT
DTSTART;TZID=America/New_York:20260426T120000
DTEND;TZID=America/New_York:20260426T160000
DTSTAMP:20260419T155814
CREATED:20260213T231905Z
LAST-MODIFIED:20260213T231905Z
UID:10010040-1777204800-1777219200@brynathynchurch.org
SUMMARY:Sacred Arts Festival
DESCRIPTION:Experience religious art in the making! Watch artists work withmetal\, glass\, sand\, stone\, eggs\, and ink to create stunning expressions offaith. \nThis is the only day of the year that all galleries and theTower are open for self-guided exploration. While here\, visit the temporaryexhibition The Sacred Art of Ethiopia and enjoy family-friendlyactivities. \nhttps://www.glencairnmuseum.org/upcoming-events/2026/4/26/sacred-arts-festival
URL:https://brynathynchurch.org/calendar-event/sacred-arts-festival/
LOCATION:PA
CATEGORIES:Glencairn Museum
END:VEVENT
BEGIN:VEVENT
DTSTART;TZID=America/New_York:20260514T094500
DTEND;TZID=America/New_York:20260514T120000
DTSTAMP:20260419T155814
CREATED:20260213T231906Z
LAST-MODIFIED:20260213T231906Z
UID:10010041-1778751900-1778760000@brynathynchurch.org
SUMMARY:Spring Homeschool Morning
DESCRIPTION:Our popular annual spring event for homeschool families is transforming this year! We are excited to welcome you to a Spring Homeschool Morning at Glencairn Museum. This new version of our event is designed to welcome smaller groups\, provide more interaction with Museum staff\, and offer opportunities for crafts and exploration in the Museum. \n Here’s what to expect: \n9:45—10:00 am          Doors open and families arrive \n10:00—10:45 am        Guided tours and self-guided activitieson the first floor \n10:45—11:00 am        Transition time \n11:00—11:45 am        Guided tours and self-guided activitieson the first floor \n11:45 am-12:00 pm   Event ends and families depart \nFamilies will beassigned a guided tour time based on their arrival and entry to the Museum.All dates have the same programming.Reservations required. \nhttps://www.glencairnmuseum.org/upcoming-events/2026/3/10/spring-homeschool-morning
URL:https://brynathynchurch.org/calendar-event/spring-homeschool-morning-3/
LOCATION:Glencairn Museum
CATEGORIES:Glencairn Museum
END:VEVENT
BEGIN:VEVENT
DTSTART;TZID=America/New_York:20260521T160000
DTEND;TZID=America/New_York:20260521T190000
DTSTAMP:20260419T155814
CREATED:20260220T003401Z
LAST-MODIFIED:20260220T003401Z
UID:10010062-1779379200-1779390000@brynathynchurch.org
SUMMARY:Third Thursdays in Spring at Glencairn Museum
DESCRIPTION:Glencairn Museum’s galleries are open forexploration! Join us this spring on the third Thursday of April\, May\, and Junefor three opportunities to wander\, discover\, and enjoy the collection above andbelow the first floor. From 4:00–7:00pm\, visitors can self-guide through spaces usually seen on guided tours\, aswell as some spaces that are often unseen! Staff will be on hand to answer yourquestions and help you find your way. Complimentary tea and coffee will beavailable on the first floor. \nPlease note that thehistoric elevator will be available for accessibility only\, and the Tower willnot be available \nhttps://www.glencairnmuseum.org/upcoming-events/2026/4/16/third-thursdays-in-spring-at-glencairn-museum
URL:https://brynathynchurch.org/calendar-event/third-thursdays-in-spring-at-glencairn-museum-2/
LOCATION:Glencairn Museum
CATEGORIES:Glencairn Museum
END:VEVENT
BEGIN:VEVENT
DTSTART;TZID=America/New_York:20260618T160000
DTEND;TZID=America/New_York:20260618T190000
DTSTAMP:20260419T155814
CREATED:20260320T030421Z
LAST-MODIFIED:20260320T030421Z
UID:10010133-1781798400-1781809200@brynathynchurch.org
SUMMARY:Third Thursdays in Spring at Glencairn Museum
DESCRIPTION:Glencairn Museum’s galleries are open forexploration! Join us this spring on the third Thursday of April\, May\, and Junefor three opportunities to wander\, discover\, and enjoy the collection above andbelow the first floor. From 4:00–7:00pm\, visitors can self-guide through spaces usually seen on guided tours\, aswell as some spaces that are often unseen! Staff will be on hand to answer yourquestions and help you find your way. Complimentary tea and coffee will beavailable on the first floor. \nPlease note that thehistoric elevator will be available for accessibility only\, and the Tower willnot be available \nhttps://www.glencairnmuseum.org/upcoming-events/2026/4/16/third-thursdays-in-spring-at-glencairn-museum
URL:https://brynathynchurch.org/calendar-event/third-thursdays-in-spring-at-glencairn-museum-3/
LOCATION:Glencairn Museum
CATEGORIES:Glencairn Museum
END:VEVENT
BEGIN:VEVENT
DTSTART;TZID=America/New_York:20260623T200000
DTEND;TZID=America/New_York:20260623T220000
DTSTAMP:20260419T155814
CREATED:20260326T033429Z
LAST-MODIFIED:20260326T033429Z
UID:10010139-1782244800-1782252000@brynathynchurch.org
SUMMARY:Landmarks in Lights
DESCRIPTION:Experience Bryn Athyn AfterDark! \nSee the Bryn Athyn HistoricDistrict in a whole new light as Glencairn Museum\, Cairnwood Estate\, and BrynAthyn Cathedral are illuminated against the night sky. Wander the beautifullylit grounds\, enjoy sweeping views\, and take in the peaceful\, twilight atmosphereof these iconic landmarks after hours. \nThis free outdoor event invitesvisitors to stroll the grounds\, bring a camera\, and experience the beauty andgrandeur of Bryn Athyn’s historic architecture glowing at night. \nOptional indoor access isavailable\, with admission priced separately for each building.  \nIndoor Access & Experiences \nGlencairn Museum$5 per person admission to the first floor and select galleries$2 Access Philly CardholdersFree for all Glencairn Museum membership levels \nTower elevator rides (available for purchase on the night of the event)$5 per person$2 Access Philly CardholdersFree for all Glencairn Museum membership levels \nCairnwood Estate \nFREE admission to the Garden House welcome center andorientation video$5 per person for self-guided house tours supported by docentsWine and beer available for purchase on the South Terrace \n  \nBryn Athyn CathedralFREE admissionTour guides availableClassical music throughout the evening \nAdditional InformationFree parking throughout the Bryn Athyn Historic DistrictPlease note: due to the age and construction of the buildings\, some areas arenot fully accessibleThis is an open-house–style event\, feel free to arrive anytime between 8:00 and10:00 pm.Minors must be accompanied by an adultPets are not permittedEvent is weather-dependent. \nhttps://www.glencairnmuseum.org/upcoming-events/2026/6/23/landmarks-in-lights
URL:https://brynathynchurch.org/calendar-event/landmarks-in-lights-3/
LOCATION:Bryn Athyn Historic District\, 1005 Cathedral Rd\, Bryn Athyn\, PA\, United States
CATEGORIES:Glencairn Museum
GEO:40.13473;-75.062509
X-APPLE-STRUCTURED-LOCATION;VALUE=URI;X-ADDRESS=Bryn Athyn Historic District 1005 Cathedral Rd Bryn Athyn PA United States;X-APPLE-RADIUS=500;X-TITLE=1005 Cathedral Rd:geo:-75.062509,40.13473
END:VEVENT
END:VCALENDAR