BEGIN:VCALENDAR
VERSION:2.0
PRODID:-//Bryn Athyn Church - ECPv6.15.12.2//NONSGML v1.0//EN
CALSCALE:GREGORIAN
METHOD:PUBLISH
X-ORIGINAL-URL:https://brynathynchurch.org
X-WR-CALDESC:Events for Bryn Athyn Church
REFRESH-INTERVAL;VALUE=DURATION:PT1H
X-Robots-Tag:noindex
X-PUBLISHED-TTL:PT1H
BEGIN:VTIMEZONE
TZID:America/New_York
BEGIN:DAYLIGHT
TZOFFSETFROM:-0500
TZOFFSETTO:-0400
TZNAME:EDT
DTSTART:20250309T070000
END:DAYLIGHT
BEGIN:STANDARD
TZOFFSETFROM:-0400
TZOFFSETTO:-0500
TZNAME:EST
DTSTART:20251102T060000
END:STANDARD
BEGIN:DAYLIGHT
TZOFFSETFROM:-0500
TZOFFSETTO:-0400
TZNAME:EDT
DTSTART:20260308T070000
END:DAYLIGHT
BEGIN:STANDARD
TZOFFSETFROM:-0400
TZOFFSETTO:-0500
TZNAME:EST
DTSTART:20261101T060000
END:STANDARD
BEGIN:DAYLIGHT
TZOFFSETFROM:-0500
TZOFFSETTO:-0400
TZNAME:EDT
DTSTART:20270314T070000
END:DAYLIGHT
BEGIN:STANDARD
TZOFFSETFROM:-0400
TZOFFSETTO:-0500
TZNAME:EST
DTSTART:20271107T060000
END:STANDARD
END:VTIMEZONE
BEGIN:VEVENT
DTSTART;TZID=America/New_York:20260120T120000
DTEND;TZID=America/New_York:20260120T163000
DTSTAMP:20260421T095953
CREATED:20251215T193913Z
LAST-MODIFIED:20260121T160847Z
UID:10008802-1768910400-1768926600@brynathynchurch.org
SUMMARY:World Nativities
DESCRIPTION:Friday\, November 28\, 2025–Sunday\, January 4\, 2026\nDaily from 12:00–4:30 pm\nClosed Mondays in January\nTuesday\, January 6\, 2026–Sunday\, January 25\, 2026\nTuesday–Sunday from 1:00–4:30 pm\n$5.00 per person\, included with a guided tour/event attendance\nFree for all Museum membership levels and children 4 and under \nGlencairn Museum’s annual World Nativities exhibition presents dozens of three-dimensional Nativity scenes collected from around the world. For many Christians\, the Nativity scene is a meaningful expression of religious faith\, providing a compelling visual focus during the Christmas season. World Nativities shows how artists adapt the Nativity scene to represent their own spiritual\, intellectual\, cultural\, and regional environments. Settings for many of the Nativities have been created by Bryn Athyn artist Kathleen Glenn Pitcairn. \n\nBUY TICKETS
URL:https://brynathynchurch.org/calendar-event/world-nativities-glencairn-museum-2/2026-01-20/
LOCATION:Glencairn Museum\, 1001 Cathedral Rd #0757\, Bryn Athyn\, PA 19009\, USA
CATEGORIES:Glencairn Museum
END:VEVENT
BEGIN:VEVENT
DTSTART;TZID=America/New_York:20260121T120000
DTEND;TZID=America/New_York:20260121T163000
DTSTAMP:20260421T095953
CREATED:20251215T193913Z
LAST-MODIFIED:20260121T160847Z
UID:10008803-1768996800-1769013000@brynathynchurch.org
SUMMARY:World Nativities
DESCRIPTION:Friday\, November 28\, 2025–Sunday\, January 4\, 2026\nDaily from 12:00–4:30 pm\nClosed Mondays in January\nTuesday\, January 6\, 2026–Sunday\, January 25\, 2026\nTuesday–Sunday from 1:00–4:30 pm\n$5.00 per person\, included with a guided tour/event attendance\nFree for all Museum membership levels and children 4 and under \nGlencairn Museum’s annual World Nativities exhibition presents dozens of three-dimensional Nativity scenes collected from around the world. For many Christians\, the Nativity scene is a meaningful expression of religious faith\, providing a compelling visual focus during the Christmas season. World Nativities shows how artists adapt the Nativity scene to represent their own spiritual\, intellectual\, cultural\, and regional environments. Settings for many of the Nativities have been created by Bryn Athyn artist Kathleen Glenn Pitcairn. \n\nBUY TICKETS
URL:https://brynathynchurch.org/calendar-event/world-nativities-glencairn-museum-2/2026-01-21/
LOCATION:Glencairn Museum\, 1001 Cathedral Rd #0757\, Bryn Athyn\, PA 19009\, USA
CATEGORIES:Glencairn Museum
END:VEVENT
BEGIN:VEVENT
DTSTART;TZID=America/New_York:20260122T120000
DTEND;TZID=America/New_York:20260122T163000
DTSTAMP:20260421T095953
CREATED:20251215T193913Z
LAST-MODIFIED:20260121T160847Z
UID:10008804-1769083200-1769099400@brynathynchurch.org
SUMMARY:World Nativities
DESCRIPTION:Friday\, November 28\, 2025–Sunday\, January 4\, 2026\nDaily from 12:00–4:30 pm\nClosed Mondays in January\nTuesday\, January 6\, 2026–Sunday\, January 25\, 2026\nTuesday–Sunday from 1:00–4:30 pm\n$5.00 per person\, included with a guided tour/event attendance\nFree for all Museum membership levels and children 4 and under \nGlencairn Museum’s annual World Nativities exhibition presents dozens of three-dimensional Nativity scenes collected from around the world. For many Christians\, the Nativity scene is a meaningful expression of religious faith\, providing a compelling visual focus during the Christmas season. World Nativities shows how artists adapt the Nativity scene to represent their own spiritual\, intellectual\, cultural\, and regional environments. Settings for many of the Nativities have been created by Bryn Athyn artist Kathleen Glenn Pitcairn. \n\nBUY TICKETS
URL:https://brynathynchurch.org/calendar-event/world-nativities-glencairn-museum-2/2026-01-22/
LOCATION:Glencairn Museum\, 1001 Cathedral Rd #0757\, Bryn Athyn\, PA 19009\, USA
CATEGORIES:Glencairn Museum
END:VEVENT
BEGIN:VEVENT
DTSTART;TZID=America/New_York:20260123T120000
DTEND;TZID=America/New_York:20260123T163000
DTSTAMP:20260421T095953
CREATED:20251215T193913Z
LAST-MODIFIED:20260121T160847Z
UID:10008805-1769169600-1769185800@brynathynchurch.org
SUMMARY:World Nativities
DESCRIPTION:Friday\, November 28\, 2025–Sunday\, January 4\, 2026\nDaily from 12:00–4:30 pm\nClosed Mondays in January\nTuesday\, January 6\, 2026–Sunday\, January 25\, 2026\nTuesday–Sunday from 1:00–4:30 pm\n$5.00 per person\, included with a guided tour/event attendance\nFree for all Museum membership levels and children 4 and under \nGlencairn Museum’s annual World Nativities exhibition presents dozens of three-dimensional Nativity scenes collected from around the world. For many Christians\, the Nativity scene is a meaningful expression of religious faith\, providing a compelling visual focus during the Christmas season. World Nativities shows how artists adapt the Nativity scene to represent their own spiritual\, intellectual\, cultural\, and regional environments. Settings for many of the Nativities have been created by Bryn Athyn artist Kathleen Glenn Pitcairn. \n\nBUY TICKETS
URL:https://brynathynchurch.org/calendar-event/world-nativities-glencairn-museum-2/2026-01-23/
LOCATION:Glencairn Museum\, 1001 Cathedral Rd #0757\, Bryn Athyn\, PA 19009\, USA
CATEGORIES:Glencairn Museum
END:VEVENT
BEGIN:VEVENT
DTSTART;TZID=America/New_York:20260124T120000
DTEND;TZID=America/New_York:20260124T163000
DTSTAMP:20260421T095953
CREATED:20251215T193913Z
LAST-MODIFIED:20260121T160847Z
UID:10008806-1769256000-1769272200@brynathynchurch.org
SUMMARY:World Nativities
DESCRIPTION:Friday\, November 28\, 2025–Sunday\, January 4\, 2026\nDaily from 12:00–4:30 pm\nClosed Mondays in January\nTuesday\, January 6\, 2026–Sunday\, January 25\, 2026\nTuesday–Sunday from 1:00–4:30 pm\n$5.00 per person\, included with a guided tour/event attendance\nFree for all Museum membership levels and children 4 and under \nGlencairn Museum’s annual World Nativities exhibition presents dozens of three-dimensional Nativity scenes collected from around the world. For many Christians\, the Nativity scene is a meaningful expression of religious faith\, providing a compelling visual focus during the Christmas season. World Nativities shows how artists adapt the Nativity scene to represent their own spiritual\, intellectual\, cultural\, and regional environments. Settings for many of the Nativities have been created by Bryn Athyn artist Kathleen Glenn Pitcairn. \n\nBUY TICKETS
URL:https://brynathynchurch.org/calendar-event/world-nativities-glencairn-museum-2/2026-01-24/
LOCATION:Glencairn Museum\, 1001 Cathedral Rd #0757\, Bryn Athyn\, PA 19009\, USA
CATEGORIES:Glencairn Museum
END:VEVENT
BEGIN:VEVENT
DTSTART;TZID=America/New_York:20260125T120000
DTEND;TZID=America/New_York:20260125T163000
DTSTAMP:20260421T095953
CREATED:20251215T193913Z
LAST-MODIFIED:20260121T160847Z
UID:10008807-1769342400-1769358600@brynathynchurch.org
SUMMARY:World Nativities
DESCRIPTION:Friday\, November 28\, 2025–Sunday\, January 4\, 2026\nDaily from 12:00–4:30 pm\nClosed Mondays in January\nTuesday\, January 6\, 2026–Sunday\, January 25\, 2026\nTuesday–Sunday from 1:00–4:30 pm\n$5.00 per person\, included with a guided tour/event attendance\nFree for all Museum membership levels and children 4 and under \nGlencairn Museum’s annual World Nativities exhibition presents dozens of three-dimensional Nativity scenes collected from around the world. For many Christians\, the Nativity scene is a meaningful expression of religious faith\, providing a compelling visual focus during the Christmas season. World Nativities shows how artists adapt the Nativity scene to represent their own spiritual\, intellectual\, cultural\, and regional environments. Settings for many of the Nativities have been created by Bryn Athyn artist Kathleen Glenn Pitcairn. \n\nBUY TICKETS
URL:https://brynathynchurch.org/calendar-event/world-nativities-glencairn-museum-2/2026-01-25/
LOCATION:Glencairn Museum\, 1001 Cathedral Rd #0757\, Bryn Athyn\, PA 19009\, USA
CATEGORIES:Glencairn Museum
END:VEVENT
END:VCALENDAR