BEGIN:VCALENDAR
VERSION:2.0
PRODID:-//Bryn Athyn Church - ECPv6.15.12.2//NONSGML v1.0//EN
CALSCALE:GREGORIAN
METHOD:PUBLISH
X-WR-CALNAME:Bryn Athyn Church
X-ORIGINAL-URL:https://brynathynchurch.org
X-WR-CALDESC:Events for Bryn Athyn Church
REFRESH-INTERVAL;VALUE=DURATION:PT1H
X-Robots-Tag:noindex
X-PUBLISHED-TTL:PT1H
BEGIN:VTIMEZONE
TZID:America/New_York
BEGIN:DAYLIGHT
TZOFFSETFROM:-0500
TZOFFSETTO:-0400
TZNAME:EDT
DTSTART:20270314T070000
END:DAYLIGHT
BEGIN:STANDARD
TZOFFSETFROM:-0400
TZOFFSETTO:-0500
TZNAME:EST
DTSTART:20271107T060000
END:STANDARD
BEGIN:DAYLIGHT
TZOFFSETFROM:-0500
TZOFFSETTO:-0400
TZNAME:EDT
DTSTART:20280312T070000
END:DAYLIGHT
BEGIN:STANDARD
TZOFFSETFROM:-0400
TZOFFSETTO:-0500
TZNAME:EST
DTSTART:20281105T060000
END:STANDARD
BEGIN:DAYLIGHT
TZOFFSETFROM:-0500
TZOFFSETTO:-0400
TZNAME:EDT
DTSTART:20290311T070000
END:DAYLIGHT
BEGIN:STANDARD
TZOFFSETFROM:-0400
TZOFFSETTO:-0500
TZNAME:EST
DTSTART:20291104T060000
END:STANDARD
END:VTIMEZONE
BEGIN:VEVENT
DTSTART;TZID=America/New_York:20280730T093000
DTEND;TZID=America/New_York:20280730T100000
DTSTAMP:20260421T003601
CREATED:20250903T171138Z
LAST-MODIFIED:20260420T165738Z
UID:10008313-1848562200-1848564000@brynathynchurch.org
SUMMARY:Young Children's Service
DESCRIPTION:This short and sweet service is only in person and is for families with young children (though children of all ages are welcome). It is held in the Council Chamber or Undercroft or outside (during warmer months) at the Bryn Athyn Cathedral. \nFind the topic for the week at https://brynathynchurch.org/worship/young-childrens-service/
URL:https://brynathynchurch.org/calendar-event/young-childrens-service-30/2028-07-30/
LOCATION:Cathedral Undercroft\, 900 Cathedral Road\, Bryn Athyn\, PA\, 19009\, United States
CATEGORIES:Bryn Athyn Church
END:VEVENT
BEGIN:VEVENT
DTSTART;TZID=America/New_York:20280730T101500
DTEND;TZID=America/New_York:20280730T110000
DTSTAMP:20260421T003601
CREATED:20251227T135337Z
LAST-MODIFIED:20260420T170604Z
UID:10009289-1848564900-1848567600@brynathynchurch.org
SUMMARY:Informal Family Service
DESCRIPTION:We would love to have you join us in-person or online for Informal Family Service. If you’re coming in-person\, read about timing\, parking\, and location. \n\nPlease Note: The player below will always show information about the next Informal Family Service. \n\n \n\n \n\nZoom Discussion at 11:30 am\nJoin Our Sunday Zoom Conversation\, every Sunday at 11:30am Eastern time. Join the Zoom meeting.
URL:https://brynathynchurch.org/calendar-event/informal-family-service-55/2028-07-30/
LOCATION:Cathedral Undercroft\, 900 Cathedral Road\, Bryn Athyn\, PA\, 19009\, United States
CATEGORIES:Bryn Athyn Church
END:VEVENT
BEGIN:VEVENT
DTSTART;TZID=America/New_York:20280730T110000
DTEND;TZID=America/New_York:20280730T120000
DTSTAMP:20260421T003601
CREATED:20251204T135428Z
LAST-MODIFIED:20260420T170813Z
UID:10008574-1848567600-1848571200@brynathynchurch.org
SUMMARY:Adult Service
DESCRIPTION:We would love to have you join us in-person or online for our next Adult Service. The service is about 45 minutes long and the sermon is aimed at high school age and up. \n\nPlease Note: The player below will always show information about the next Adult Service. To find other recordings\, visit the Adult Service Archive or the All Recent Services archive.
URL:https://brynathynchurch.org/calendar-event/adult-service-19/2028-07-30/
LOCATION:Bryn Athyn Cathedral\, 900 Cathedral Rd\, Bryn Athyn\, PA 19009\, United States
CATEGORIES:Bryn Athyn Church
END:VEVENT
BEGIN:VEVENT
DTSTART;TZID=America/New_York:20280731T150000
DTEND;TZID=America/New_York:20280731T160000
DTSTAMP:20260421T003601
CREATED:20260407T163607Z
LAST-MODIFIED:20260407T163607Z
UID:10010304-1848668400-1848672000@brynathynchurch.org
SUMMARY:IFS Planning Meeting
DESCRIPTION:
URL:https://brynathynchurch.org/calendar-event/ifs-planning-meeting/2028-07-31/
CATEGORIES:Bryn Athyn Church
END:VEVENT
BEGIN:VEVENT
DTSTART;TZID=America/New_York:20280806T093000
DTEND;TZID=America/New_York:20280806T100000
DTSTAMP:20260421T003601
CREATED:20250903T171138Z
LAST-MODIFIED:20260420T165738Z
UID:10008314-1849167000-1849168800@brynathynchurch.org
SUMMARY:Young Children's Service
DESCRIPTION:This short and sweet service is only in person and is for families with young children (though children of all ages are welcome). It is held in the Council Chamber or Undercroft or outside (during warmer months) at the Bryn Athyn Cathedral. \nFind the topic for the week at https://brynathynchurch.org/worship/young-childrens-service/
URL:https://brynathynchurch.org/calendar-event/young-childrens-service-30/2028-08-06/
LOCATION:Cathedral Undercroft\, 900 Cathedral Road\, Bryn Athyn\, PA\, 19009\, United States
CATEGORIES:Bryn Athyn Church
END:VEVENT
BEGIN:VEVENT
DTSTART;TZID=America/New_York:20280806T101500
DTEND;TZID=America/New_York:20280806T110000
DTSTAMP:20260421T003601
CREATED:20251227T135337Z
LAST-MODIFIED:20260420T170604Z
UID:10009290-1849169700-1849172400@brynathynchurch.org
SUMMARY:Informal Family Service
DESCRIPTION:We would love to have you join us in-person or online for Informal Family Service. If you’re coming in-person\, read about timing\, parking\, and location. \n\nPlease Note: The player below will always show information about the next Informal Family Service. \n\n \n\n \n\nZoom Discussion at 11:30 am\nJoin Our Sunday Zoom Conversation\, every Sunday at 11:30am Eastern time. Join the Zoom meeting.
URL:https://brynathynchurch.org/calendar-event/informal-family-service-55/2028-08-06/
LOCATION:Cathedral Undercroft\, 900 Cathedral Road\, Bryn Athyn\, PA\, 19009\, United States
CATEGORIES:Bryn Athyn Church
END:VEVENT
BEGIN:VEVENT
DTSTART;TZID=America/New_York:20280806T110000
DTEND;TZID=America/New_York:20280806T120000
DTSTAMP:20260421T003601
CREATED:20251204T135428Z
LAST-MODIFIED:20260420T170813Z
UID:10008575-1849172400-1849176000@brynathynchurch.org
SUMMARY:Adult Service
DESCRIPTION:We would love to have you join us in-person or online for our next Adult Service. The service is about 45 minutes long and the sermon is aimed at high school age and up. \n\nPlease Note: The player below will always show information about the next Adult Service. To find other recordings\, visit the Adult Service Archive or the All Recent Services archive.
URL:https://brynathynchurch.org/calendar-event/adult-service-19/2028-08-06/
LOCATION:Bryn Athyn Cathedral\, 900 Cathedral Rd\, Bryn Athyn\, PA 19009\, United States
CATEGORIES:Bryn Athyn Church
END:VEVENT
BEGIN:VEVENT
DTSTART;TZID=America/New_York:20280807T150000
DTEND;TZID=America/New_York:20280807T160000
DTSTAMP:20260421T003601
CREATED:20260407T163607Z
LAST-MODIFIED:20260407T163607Z
UID:10010305-1849273200-1849276800@brynathynchurch.org
SUMMARY:IFS Planning Meeting
DESCRIPTION:
URL:https://brynathynchurch.org/calendar-event/ifs-planning-meeting/2028-08-07/
CATEGORIES:Bryn Athyn Church
END:VEVENT
BEGIN:VEVENT
DTSTART;TZID=America/New_York:20280813T093000
DTEND;TZID=America/New_York:20280813T100000
DTSTAMP:20260421T003601
CREATED:20250903T171138Z
LAST-MODIFIED:20260420T165738Z
UID:10008315-1849771800-1849773600@brynathynchurch.org
SUMMARY:Young Children's Service
DESCRIPTION:This short and sweet service is only in person and is for families with young children (though children of all ages are welcome). It is held in the Council Chamber or Undercroft or outside (during warmer months) at the Bryn Athyn Cathedral. \nFind the topic for the week at https://brynathynchurch.org/worship/young-childrens-service/
URL:https://brynathynchurch.org/calendar-event/young-childrens-service-30/2028-08-13/
LOCATION:Cathedral Undercroft\, 900 Cathedral Road\, Bryn Athyn\, PA\, 19009\, United States
CATEGORIES:Bryn Athyn Church
END:VEVENT
BEGIN:VEVENT
DTSTART;TZID=America/New_York:20280813T101500
DTEND;TZID=America/New_York:20280813T110000
DTSTAMP:20260421T003601
CREATED:20251227T135337Z
LAST-MODIFIED:20260420T170604Z
UID:10009291-1849774500-1849777200@brynathynchurch.org
SUMMARY:Informal Family Service
DESCRIPTION:We would love to have you join us in-person or online for Informal Family Service. If you’re coming in-person\, read about timing\, parking\, and location. \n\nPlease Note: The player below will always show information about the next Informal Family Service. \n\n \n\n \n\nZoom Discussion at 11:30 am\nJoin Our Sunday Zoom Conversation\, every Sunday at 11:30am Eastern time. Join the Zoom meeting.
URL:https://brynathynchurch.org/calendar-event/informal-family-service-55/2028-08-13/
LOCATION:Cathedral Undercroft\, 900 Cathedral Road\, Bryn Athyn\, PA\, 19009\, United States
CATEGORIES:Bryn Athyn Church
END:VEVENT
BEGIN:VEVENT
DTSTART;TZID=America/New_York:20280813T110000
DTEND;TZID=America/New_York:20280813T120000
DTSTAMP:20260421T003601
CREATED:20251204T135428Z
LAST-MODIFIED:20260420T170813Z
UID:10008576-1849777200-1849780800@brynathynchurch.org
SUMMARY:Adult Service
DESCRIPTION:We would love to have you join us in-person or online for our next Adult Service. The service is about 45 minutes long and the sermon is aimed at high school age and up. \n\nPlease Note: The player below will always show information about the next Adult Service. To find other recordings\, visit the Adult Service Archive or the All Recent Services archive.
URL:https://brynathynchurch.org/calendar-event/adult-service-19/2028-08-13/
LOCATION:Bryn Athyn Cathedral\, 900 Cathedral Rd\, Bryn Athyn\, PA 19009\, United States
CATEGORIES:Bryn Athyn Church
END:VEVENT
BEGIN:VEVENT
DTSTART;TZID=America/New_York:20280814T150000
DTEND;TZID=America/New_York:20280814T160000
DTSTAMP:20260421T003601
CREATED:20260407T163607Z
LAST-MODIFIED:20260407T163607Z
UID:10010306-1849878000-1849881600@brynathynchurch.org
SUMMARY:IFS Planning Meeting
DESCRIPTION:
URL:https://brynathynchurch.org/calendar-event/ifs-planning-meeting/2028-08-14/
CATEGORIES:Bryn Athyn Church
END:VEVENT
BEGIN:VEVENT
DTSTART;TZID=America/New_York:20280820T093000
DTEND;TZID=America/New_York:20280820T100000
DTSTAMP:20260421T003601
CREATED:20250903T171138Z
LAST-MODIFIED:20260420T165738Z
UID:10008316-1850376600-1850378400@brynathynchurch.org
SUMMARY:Young Children's Service
DESCRIPTION:This short and sweet service is only in person and is for families with young children (though children of all ages are welcome). It is held in the Council Chamber or Undercroft or outside (during warmer months) at the Bryn Athyn Cathedral. \nFind the topic for the week at https://brynathynchurch.org/worship/young-childrens-service/
URL:https://brynathynchurch.org/calendar-event/young-childrens-service-30/2028-08-20/
LOCATION:Cathedral Undercroft\, 900 Cathedral Road\, Bryn Athyn\, PA\, 19009\, United States
CATEGORIES:Bryn Athyn Church
END:VEVENT
BEGIN:VEVENT
DTSTART;TZID=America/New_York:20280820T101500
DTEND;TZID=America/New_York:20280820T110000
DTSTAMP:20260421T003601
CREATED:20251227T135337Z
LAST-MODIFIED:20260420T170604Z
UID:10009292-1850379300-1850382000@brynathynchurch.org
SUMMARY:Informal Family Service
DESCRIPTION:We would love to have you join us in-person or online for Informal Family Service. If you’re coming in-person\, read about timing\, parking\, and location. \n\nPlease Note: The player below will always show information about the next Informal Family Service. \n\n \n\n \n\nZoom Discussion at 11:30 am\nJoin Our Sunday Zoom Conversation\, every Sunday at 11:30am Eastern time. Join the Zoom meeting.
URL:https://brynathynchurch.org/calendar-event/informal-family-service-55/2028-08-20/
LOCATION:Cathedral Undercroft\, 900 Cathedral Road\, Bryn Athyn\, PA\, 19009\, United States
CATEGORIES:Bryn Athyn Church
END:VEVENT
BEGIN:VEVENT
DTSTART;TZID=America/New_York:20280820T110000
DTEND;TZID=America/New_York:20280820T120000
DTSTAMP:20260421T003601
CREATED:20251204T135428Z
LAST-MODIFIED:20260420T170813Z
UID:10008577-1850382000-1850385600@brynathynchurch.org
SUMMARY:Adult Service
DESCRIPTION:We would love to have you join us in-person or online for our next Adult Service. The service is about 45 minutes long and the sermon is aimed at high school age and up. \n\nPlease Note: The player below will always show information about the next Adult Service. To find other recordings\, visit the Adult Service Archive or the All Recent Services archive.
URL:https://brynathynchurch.org/calendar-event/adult-service-19/2028-08-20/
LOCATION:Bryn Athyn Cathedral\, 900 Cathedral Rd\, Bryn Athyn\, PA 19009\, United States
CATEGORIES:Bryn Athyn Church
END:VEVENT
BEGIN:VEVENT
DTSTART;TZID=America/New_York:20280821T150000
DTEND;TZID=America/New_York:20280821T160000
DTSTAMP:20260421T003601
CREATED:20260407T163607Z
LAST-MODIFIED:20260407T163607Z
UID:10010307-1850482800-1850486400@brynathynchurch.org
SUMMARY:IFS Planning Meeting
DESCRIPTION:
URL:https://brynathynchurch.org/calendar-event/ifs-planning-meeting/2028-08-21/
CATEGORIES:Bryn Athyn Church
END:VEVENT
BEGIN:VEVENT
DTSTART;TZID=America/New_York:20280827T093000
DTEND;TZID=America/New_York:20280827T100000
DTSTAMP:20260421T003601
CREATED:20250903T171138Z
LAST-MODIFIED:20260420T165738Z
UID:10008317-1850981400-1850983200@brynathynchurch.org
SUMMARY:Young Children's Service
DESCRIPTION:This short and sweet service is only in person and is for families with young children (though children of all ages are welcome). It is held in the Council Chamber or Undercroft or outside (during warmer months) at the Bryn Athyn Cathedral. \nFind the topic for the week at https://brynathynchurch.org/worship/young-childrens-service/
URL:https://brynathynchurch.org/calendar-event/young-childrens-service-30/2028-08-27/
LOCATION:Cathedral Undercroft\, 900 Cathedral Road\, Bryn Athyn\, PA\, 19009\, United States
CATEGORIES:Bryn Athyn Church
END:VEVENT
BEGIN:VEVENT
DTSTART;TZID=America/New_York:20280827T101500
DTEND;TZID=America/New_York:20280827T110000
DTSTAMP:20260421T003601
CREATED:20251227T135337Z
LAST-MODIFIED:20260420T170604Z
UID:10009293-1850984100-1850986800@brynathynchurch.org
SUMMARY:Informal Family Service
DESCRIPTION:We would love to have you join us in-person or online for Informal Family Service. If you’re coming in-person\, read about timing\, parking\, and location. \n\nPlease Note: The player below will always show information about the next Informal Family Service. \n\n \n\n \n\nZoom Discussion at 11:30 am\nJoin Our Sunday Zoom Conversation\, every Sunday at 11:30am Eastern time. Join the Zoom meeting.
URL:https://brynathynchurch.org/calendar-event/informal-family-service-55/2028-08-27/
LOCATION:Cathedral Undercroft\, 900 Cathedral Road\, Bryn Athyn\, PA\, 19009\, United States
CATEGORIES:Bryn Athyn Church
END:VEVENT
BEGIN:VEVENT
DTSTART;TZID=America/New_York:20280827T110000
DTEND;TZID=America/New_York:20280827T120000
DTSTAMP:20260421T003601
CREATED:20251204T135428Z
LAST-MODIFIED:20260420T170813Z
UID:10008578-1850986800-1850990400@brynathynchurch.org
SUMMARY:Adult Service
DESCRIPTION:We would love to have you join us in-person or online for our next Adult Service. The service is about 45 minutes long and the sermon is aimed at high school age and up. \n\nPlease Note: The player below will always show information about the next Adult Service. To find other recordings\, visit the Adult Service Archive or the All Recent Services archive.
URL:https://brynathynchurch.org/calendar-event/adult-service-19/2028-08-27/
LOCATION:Bryn Athyn Cathedral\, 900 Cathedral Rd\, Bryn Athyn\, PA 19009\, United States
CATEGORIES:Bryn Athyn Church
END:VEVENT
BEGIN:VEVENT
DTSTART;TZID=America/New_York:20280828T150000
DTEND;TZID=America/New_York:20280828T160000
DTSTAMP:20260421T003601
CREATED:20260407T163607Z
LAST-MODIFIED:20260407T163607Z
UID:10010308-1851087600-1851091200@brynathynchurch.org
SUMMARY:IFS Planning Meeting
DESCRIPTION:
URL:https://brynathynchurch.org/calendar-event/ifs-planning-meeting/2028-08-28/
CATEGORIES:Bryn Athyn Church
END:VEVENT
BEGIN:VEVENT
DTSTART;TZID=America/New_York:20280903T093000
DTEND;TZID=America/New_York:20280903T100000
DTSTAMP:20260421T003601
CREATED:20250903T171138Z
LAST-MODIFIED:20260420T165738Z
UID:10008318-1851586200-1851588000@brynathynchurch.org
SUMMARY:Young Children's Service
DESCRIPTION:This short and sweet service is only in person and is for families with young children (though children of all ages are welcome). It is held in the Council Chamber or Undercroft or outside (during warmer months) at the Bryn Athyn Cathedral. \nFind the topic for the week at https://brynathynchurch.org/worship/young-childrens-service/
URL:https://brynathynchurch.org/calendar-event/young-childrens-service-30/2028-09-03/
LOCATION:Cathedral Undercroft\, 900 Cathedral Road\, Bryn Athyn\, PA\, 19009\, United States
CATEGORIES:Bryn Athyn Church
END:VEVENT
BEGIN:VEVENT
DTSTART;TZID=America/New_York:20280903T101500
DTEND;TZID=America/New_York:20280903T110000
DTSTAMP:20260421T003601
CREATED:20251227T135337Z
LAST-MODIFIED:20260420T170604Z
UID:10009294-1851588900-1851591600@brynathynchurch.org
SUMMARY:Informal Family Service
DESCRIPTION:We would love to have you join us in-person or online for Informal Family Service. If you’re coming in-person\, read about timing\, parking\, and location. \n\nPlease Note: The player below will always show information about the next Informal Family Service. \n\n \n\n \n\nZoom Discussion at 11:30 am\nJoin Our Sunday Zoom Conversation\, every Sunday at 11:30am Eastern time. Join the Zoom meeting.
URL:https://brynathynchurch.org/calendar-event/informal-family-service-55/2028-09-03/
LOCATION:Cathedral Undercroft\, 900 Cathedral Road\, Bryn Athyn\, PA\, 19009\, United States
CATEGORIES:Bryn Athyn Church
END:VEVENT
BEGIN:VEVENT
DTSTART;TZID=America/New_York:20280903T110000
DTEND;TZID=America/New_York:20280903T120000
DTSTAMP:20260421T003601
CREATED:20251204T135428Z
LAST-MODIFIED:20260420T170813Z
UID:10008579-1851591600-1851595200@brynathynchurch.org
SUMMARY:Adult Service
DESCRIPTION:We would love to have you join us in-person or online for our next Adult Service. The service is about 45 minutes long and the sermon is aimed at high school age and up. \n\nPlease Note: The player below will always show information about the next Adult Service. To find other recordings\, visit the Adult Service Archive or the All Recent Services archive.
URL:https://brynathynchurch.org/calendar-event/adult-service-19/2028-09-03/
LOCATION:Bryn Athyn Cathedral\, 900 Cathedral Rd\, Bryn Athyn\, PA 19009\, United States
CATEGORIES:Bryn Athyn Church
END:VEVENT
BEGIN:VEVENT
DTSTART;TZID=America/New_York:20280904T150000
DTEND;TZID=America/New_York:20280904T160000
DTSTAMP:20260421T003601
CREATED:20260407T163607Z
LAST-MODIFIED:20260407T163607Z
UID:10010309-1851692400-1851696000@brynathynchurch.org
SUMMARY:IFS Planning Meeting
DESCRIPTION:
URL:https://brynathynchurch.org/calendar-event/ifs-planning-meeting/2028-09-04/
CATEGORIES:Bryn Athyn Church
END:VEVENT
BEGIN:VEVENT
DTSTART;TZID=America/New_York:20280910T093000
DTEND;TZID=America/New_York:20280910T100000
DTSTAMP:20260421T003601
CREATED:20250903T171138Z
LAST-MODIFIED:20260420T165738Z
UID:10008319-1852191000-1852192800@brynathynchurch.org
SUMMARY:Young Children's Service
DESCRIPTION:This short and sweet service is only in person and is for families with young children (though children of all ages are welcome). It is held in the Council Chamber or Undercroft or outside (during warmer months) at the Bryn Athyn Cathedral. \nFind the topic for the week at https://brynathynchurch.org/worship/young-childrens-service/
URL:https://brynathynchurch.org/calendar-event/young-childrens-service-30/2028-09-10/
LOCATION:Cathedral Undercroft\, 900 Cathedral Road\, Bryn Athyn\, PA\, 19009\, United States
CATEGORIES:Bryn Athyn Church
END:VEVENT
BEGIN:VEVENT
DTSTART;TZID=America/New_York:20280910T101500
DTEND;TZID=America/New_York:20280910T110000
DTSTAMP:20260421T003601
CREATED:20251227T135337Z
LAST-MODIFIED:20260420T170604Z
UID:10009295-1852193700-1852196400@brynathynchurch.org
SUMMARY:Informal Family Service
DESCRIPTION:We would love to have you join us in-person or online for Informal Family Service. If you’re coming in-person\, read about timing\, parking\, and location. \n\nPlease Note: The player below will always show information about the next Informal Family Service. \n\n \n\n \n\nZoom Discussion at 11:30 am\nJoin Our Sunday Zoom Conversation\, every Sunday at 11:30am Eastern time. Join the Zoom meeting.
URL:https://brynathynchurch.org/calendar-event/informal-family-service-55/2028-09-10/
LOCATION:Cathedral Undercroft\, 900 Cathedral Road\, Bryn Athyn\, PA\, 19009\, United States
CATEGORIES:Bryn Athyn Church
END:VEVENT
BEGIN:VEVENT
DTSTART;TZID=America/New_York:20280910T110000
DTEND;TZID=America/New_York:20280910T120000
DTSTAMP:20260421T003601
CREATED:20251204T135428Z
LAST-MODIFIED:20260420T170813Z
UID:10008580-1852196400-1852200000@brynathynchurch.org
SUMMARY:Adult Service
DESCRIPTION:We would love to have you join us in-person or online for our next Adult Service. The service is about 45 minutes long and the sermon is aimed at high school age and up. \n\nPlease Note: The player below will always show information about the next Adult Service. To find other recordings\, visit the Adult Service Archive or the All Recent Services archive.
URL:https://brynathynchurch.org/calendar-event/adult-service-19/2028-09-10/
LOCATION:Bryn Athyn Cathedral\, 900 Cathedral Rd\, Bryn Athyn\, PA 19009\, United States
CATEGORIES:Bryn Athyn Church
END:VEVENT
BEGIN:VEVENT
DTSTART;TZID=America/New_York:20280911T150000
DTEND;TZID=America/New_York:20280911T160000
DTSTAMP:20260421T003601
CREATED:20260407T163607Z
LAST-MODIFIED:20260407T163607Z
UID:10010310-1852297200-1852300800@brynathynchurch.org
SUMMARY:IFS Planning Meeting
DESCRIPTION:
URL:https://brynathynchurch.org/calendar-event/ifs-planning-meeting/2028-09-11/
CATEGORIES:Bryn Athyn Church
END:VEVENT
BEGIN:VEVENT
DTSTART;TZID=America/New_York:20280917T093000
DTEND;TZID=America/New_York:20280917T100000
DTSTAMP:20260421T003601
CREATED:20250903T171138Z
LAST-MODIFIED:20260420T165738Z
UID:10008320-1852795800-1852797600@brynathynchurch.org
SUMMARY:Young Children's Service
DESCRIPTION:This short and sweet service is only in person and is for families with young children (though children of all ages are welcome). It is held in the Council Chamber or Undercroft or outside (during warmer months) at the Bryn Athyn Cathedral. \nFind the topic for the week at https://brynathynchurch.org/worship/young-childrens-service/
URL:https://brynathynchurch.org/calendar-event/young-childrens-service-30/2028-09-17/
LOCATION:Cathedral Undercroft\, 900 Cathedral Road\, Bryn Athyn\, PA\, 19009\, United States
CATEGORIES:Bryn Athyn Church
END:VEVENT
BEGIN:VEVENT
DTSTART;TZID=America/New_York:20280917T101500
DTEND;TZID=America/New_York:20280917T110000
DTSTAMP:20260421T003601
CREATED:20251227T135337Z
LAST-MODIFIED:20260420T170604Z
UID:10009296-1852798500-1852801200@brynathynchurch.org
SUMMARY:Informal Family Service
DESCRIPTION:We would love to have you join us in-person or online for Informal Family Service. If you’re coming in-person\, read about timing\, parking\, and location. \n\nPlease Note: The player below will always show information about the next Informal Family Service. \n\n \n\n \n\nZoom Discussion at 11:30 am\nJoin Our Sunday Zoom Conversation\, every Sunday at 11:30am Eastern time. Join the Zoom meeting.
URL:https://brynathynchurch.org/calendar-event/informal-family-service-55/2028-09-17/
LOCATION:Cathedral Undercroft\, 900 Cathedral Road\, Bryn Athyn\, PA\, 19009\, United States
CATEGORIES:Bryn Athyn Church
END:VEVENT
END:VCALENDAR