BEGIN:VCALENDAR
VERSION:2.0
PRODID:-//Bryn Athyn Church - ECPv6.15.12.2//NONSGML v1.0//EN
CALSCALE:GREGORIAN
METHOD:PUBLISH
X-WR-CALNAME:Bryn Athyn Church
X-ORIGINAL-URL:https://brynathynchurch.org
X-WR-CALDESC:Events for Bryn Athyn Church
REFRESH-INTERVAL;VALUE=DURATION:PT1H
X-Robots-Tag:noindex
X-PUBLISHED-TTL:PT1H
BEGIN:VTIMEZONE
TZID:America/New_York
BEGIN:DAYLIGHT
TZOFFSETFROM:-0500
TZOFFSETTO:-0400
TZNAME:EDT
DTSTART:20250309T070000
END:DAYLIGHT
BEGIN:STANDARD
TZOFFSETFROM:-0400
TZOFFSETTO:-0500
TZNAME:EST
DTSTART:20251102T060000
END:STANDARD
BEGIN:DAYLIGHT
TZOFFSETFROM:-0500
TZOFFSETTO:-0400
TZNAME:EDT
DTSTART:20260308T070000
END:DAYLIGHT
BEGIN:STANDARD
TZOFFSETFROM:-0400
TZOFFSETTO:-0500
TZNAME:EST
DTSTART:20261101T060000
END:STANDARD
BEGIN:DAYLIGHT
TZOFFSETFROM:-0500
TZOFFSETTO:-0400
TZNAME:EDT
DTSTART:20270314T070000
END:DAYLIGHT
BEGIN:STANDARD
TZOFFSETFROM:-0400
TZOFFSETTO:-0500
TZNAME:EST
DTSTART:20271107T060000
END:STANDARD
END:VTIMEZONE
BEGIN:VEVENT
DTSTART;TZID=America/New_York:20260423T100000
DTEND;TZID=America/New_York:20260423T113000
DTSTAMP:20260423T043123
CREATED:20260324T155335Z
LAST-MODIFIED:20260331T124449Z
UID:10010115-1776938400-1776943800@brynathynchurch.org
SUMMARY:Mom's/Women's Group
DESCRIPTION:SPRING MOM’S/WOMEN’S GROUP \nThursdays starting April 2\, 10:00-11:30 am (Church Office) \nFor the month of April\, Bryn Athyn Church is offering a mom’s/women’s group on Thursdays from 10:00-11:30 am at the Church Office Small Group Lounge (600 Tomlinson Road.) I’m looking for women and moms of various ages who might be interested in participating. Pre-school aged children are welcome. \nWe will be using Michelle Chapin’s book Meditations on Compassion. The basic format is: \n\nHave a personal check-in\nEngage with each chapter\, exploring how to show compassion with others and with ourselves\nGroup activity and/or discussion\nFocus on a “task” to apply for the week until we meet again\n\nIf you are interested\, contact Nina at nina.dewees@brynathynchurch.org or 215-544-1413. I will have the books available at the first meeting on April 2.
URL:https://brynathynchurch.org/calendar-event/moms-womens-group-2/2026-04-23/
LOCATION:Bryn Athyn Church Office\, 600 Tomlinson Rd\, Bryn Athyn\, PA 19009\, USA
CATEGORIES:Bryn Athyn Church
END:VEVENT
END:VCALENDAR