BEGIN:VCALENDAR
VERSION:2.0
PRODID:-//Bryn Athyn Church - ECPv6.15.12.2//NONSGML v1.0//EN
CALSCALE:GREGORIAN
METHOD:PUBLISH
X-WR-CALNAME:Bryn Athyn Church
X-ORIGINAL-URL:https://brynathynchurch.org
X-WR-CALDESC:Events for Bryn Athyn Church
REFRESH-INTERVAL;VALUE=DURATION:PT1H
X-Robots-Tag:noindex
X-PUBLISHED-TTL:PT1H
BEGIN:VTIMEZONE
TZID:America/New_York
BEGIN:DAYLIGHT
TZOFFSETFROM:-0500
TZOFFSETTO:-0400
TZNAME:EDT
DTSTART:20250309T070000
END:DAYLIGHT
BEGIN:STANDARD
TZOFFSETFROM:-0400
TZOFFSETTO:-0500
TZNAME:EST
DTSTART:20251102T060000
END:STANDARD
BEGIN:DAYLIGHT
TZOFFSETFROM:-0500
TZOFFSETTO:-0400
TZNAME:EDT
DTSTART:20260308T070000
END:DAYLIGHT
BEGIN:STANDARD
TZOFFSETFROM:-0400
TZOFFSETTO:-0500
TZNAME:EST
DTSTART:20261101T060000
END:STANDARD
BEGIN:DAYLIGHT
TZOFFSETFROM:-0500
TZOFFSETTO:-0400
TZNAME:EDT
DTSTART:20270314T070000
END:DAYLIGHT
BEGIN:STANDARD
TZOFFSETFROM:-0400
TZOFFSETTO:-0500
TZNAME:EST
DTSTART:20271107T060000
END:STANDARD
END:VTIMEZONE
BEGIN:VEVENT
DTSTART;TZID=America/New_York:20260421T183000
DTEND;TZID=America/New_York:20260421T200000
DTSTAMP:20260421T090803
CREATED:20260414T154500Z
LAST-MODIFIED:20260414T154559Z
UID:10010462-1776796200-1776801600@brynathynchurch.org
SUMMARY:Poetry Open Mic Night
DESCRIPTION:Join us for a night of poetry\, food\, and conversation! \nEnjoy Light Refreshments \nContact the library to be added to the line-up! \nContact Nick Nalence with questions (Nicholas.Nalence@brynathyn.edu) \n  \n2026.04.21_Swedenborg Library Poetry Open Mic Night-2
URL:https://brynathynchurch.org/calendar-event/poetry-open-mic-night/
LOCATION:Swedenborg Library\, 2925 College Dr\, Bryn Athyn\, PA 19009\, USA
CATEGORIES:Bryn Athyn College
END:VEVENT
BEGIN:VEVENT
DTSTART;TZID=America/New_York:20260421T190000
DTEND;TZID=America/New_York:20260421T203000
DTSTAMP:20260421T090803
CREATED:20260318T190642Z
LAST-MODIFIED:20260326T153634Z
UID:10010117-1776798000-1776803400@brynathynchurch.org
SUMMARY:Bryn Athyn Church Board Meeting
DESCRIPTION:
URL:https://brynathynchurch.org/calendar-event/bryn-athyn-church-board-meeting/2026-04-21/
LOCATION:Bryn Athyn Church Office\, 600 Tomlinson Rd\, Bryn Athyn\, PA 19009\, USA
CATEGORIES:Bryn Athyn Church
END:VEVENT
END:VCALENDAR